BEGIN:VCALENDAR
VERSION:2.0
PRODID:-//ChamberMaster//Event Calendar 2.0//EN
METHOD:PUBLISH
X-PUBLISHED-TTL:P3D
REFRESH-INTERVAL:P3D
CALSCALE:GREGORIAN
BEGIN:VEVENT
DTSTART:20180125T230000Z
DTEND:20180126T010000Z
X-MICROSOFT-CDO-ALLDAYEVENT:FALSE
SUMMARY:Path to Entrepreneurship Program - Th!nk Dutchess Alliance for Business
DESCRIPTION:Do You Have What it Takes to be a \n\nSuccessful Entrepreneur?  Find Out Now!\n\nPath to Entrepreneurship Program\n\n\n\nPlease join us for a FREE  program designed to introduce you to small business   ownership.  Learn about the characteristics of a successful entrepreneur and what it takes to run your own business.
X-ALT-DESC;FMTTYPE=text/html:<span style="font-family:calibri"><span style="font-size:28.0pt">Do You Have What it Takes to be a </span></span><br />\n<span style="font-family:calibri"><span style="font-size:28.0pt">Successful Entrepreneur?&nbsp\; Find Out Now!</span></span><br />\n<strong><span style="font-family:jasmineupc"><span style="font-size:48.0pt">Path to Entrepreneurship Program</span></span></strong><br />\n<br />\n<span style="font-family:calibri"><span style="font-size:16.0pt">Please join us for a </span></span><strong><span style="font-family:calibri"><span style="font-size:16.0pt">FREE </span></span></strong><span style="font-family:calibri"><span style="font-size:16.0pt">&nbsp\;program designed to introduce you to small business&nbsp\;&nbsp\; ownership.&nbsp\; Learn about the characteristics of a successful entrepreneur and what it takes to run your own business.&nbsp\; </span></span><br />\n&nbsp\;
LOCATION:Th!nk Dutchess Alliance for Business 3 Neptune Road Suite A21 Poughkeepsie\, NY 12601
UID:e.2770.10476538
SEQUENCE:3
DTSTAMP:20260425T232308Z
URL:https://business.dcrcoc.org/events/details/path-to-entrepreneurship-program-th-nk-dutchess-alliance-for-business-10476538
END:VEVENT

END:VCALENDAR
