BEGIN:VCALENDAR
VERSION:2.0
PRODID:-//ChamberMaster//Event Calendar 2.0//EN
METHOD:PUBLISH
X-PUBLISHED-TTL:P3D
REFRESH-INTERVAL:P3D
CALSCALE:GREGORIAN
BEGIN:VEVENT
DTSTART:20200620T140000Z
DTEND:20200621T210000Z
X-MICROSOFT-CDO-ALLDAYEVENT:FALSE
SUMMARY:Peaceful Pickin'
DESCRIPTION:FREE ADMISSION! Join us for some Peaceful Pickin' at DuBois Farms! We'll be offering lots of pick-your-own strawberries everyday from 10 am to 5 pm. Enjoy a barbequed lunch in our beautiful\, shaded patio and picnic areas\, visit with the farm animals\, and shop in our farm market\, offering a great variety of local farm products. The Tavern at DuBois Farms is open everyday from 12-5 pm\, offering local wine\, hard cider and craft beer in a tranquil setting. Voted the Best U-Pick in the Hudson Valley and the Best Apple Cider Donuts in the Hudson Valley!
X-ALT-DESC;FMTTYPE=text/html:FREE ADMISSION! Join us for some Peaceful Pickin&#39\; at DuBois Farms! We&#39\;ll be offering lots of pick-your-own strawberries everyday from 10 am to 5 pm. Enjoy a barbequed lunch in our beautiful\, shaded patio and picnic areas\, visit with the farm animals\, and shop in our farm market\, offering a great variety of local farm products. The Tavern at DuBois Farms is open everyday from 12-5 pm\, offering local wine\, hard cider and craft beer in a tranquil setting. Voted the Best U-Pick in the Hudson Valley and the Best Apple Cider Donuts in the Hudson Valley!
LOCATION:209 Perkinsville Rd\, Highland\, NY 12528
UID:e.2770.10483319
SEQUENCE:3
DTSTAMP:20260422T044904Z
URL:https://business.dcrcoc.org/events/details/peaceful-pickin-06-20-2020-10483319
END:VEVENT

END:VCALENDAR
