BEGIN:VCALENDAR
VERSION:2.0
PRODID:-//ChamberMaster//Event Calendar 2.0//EN
METHOD:PUBLISH
X-PUBLISHED-TTL:P3D
REFRESH-INTERVAL:P3D
CALSCALE:GREGORIAN
BEGIN:VEVENT
DTSTART:20171018T223000Z
DTEND:20171019T003000Z
X-MICROSOFT-CDO-ALLDAYEVENT:FALSE
SUMMARY:Peppa Pig Live! Surprise!
DESCRIPTION:Peppa Pig Live! Surprise! Wednesday\, October 18\, 2017 6:30pm Peppa Pig\, the #1 Family show of 2016\, is back with an action-packed live show featuring your favorite characters as life size puppets and costume characters in Peppa Pig's Surprise! Come join Peppa\, George\, Mummy Pig\, Daddy Pig and more in an all singing\, all-dancing adventure full of songs\, games and surprises! Tickets: VIP $129.00 includes reserved spots in first 15 rows\, exclusive access to the Peppa Pig Party after the show. Healthy snacks and water\, meet and greet photo op with Peppa Pig cast on pink carpet! 1 exclusive Peppa Pig gift and onsite party concierge! $31.00\, $41.00 & $51.00 reserved seating. Tickets on sale to the general public on Friday\, August 18 at 10:00am at the Civic Center box office\, all Ticketmaster locations\, charge by phone 1-800-745-3000 or online at Ticketmaster.com.
X-ALT-DESC;FMTTYPE=text/html:Peppa Pig Live! Surprise! Wednesday\, October 18\, 2017 6:30pm Peppa Pig\, the #1 Family show of 2016\, is back with an action-packed live show featuring your favorite characters as life size puppets and costume characters in Peppa Pig&rsquo\;s Surprise! Come join Peppa\, George\, Mummy Pig\, Daddy Pig and more in an all singing\, all-dancing adventure full of songs\, games and surprises! Tickets: VIP $129.00 includes reserved spots in first 15 rows\, exclusive access to the Peppa Pig Party after the show. Healthy snacks and water\, meet and greet photo op with Peppa Pig cast on pink carpet! 1 exclusive Peppa Pig gift and onsite party concierge! $31.00\, $41.00 &amp\; $51.00 reserved seating. Tickets on sale to the general public on Friday\, August 18 at 10:00am at the Civic Center box office\, all Ticketmaster locations\, charge by phone 1-800-745-3000 or online at Ticketmaster.com.
LOCATION:Mid-Hudson Civic Center 14 Civic Center Plaza Poughkeepsie\, New York 12601
UID:e.2770.10476256
SEQUENCE:3
DTSTAMP:20260426T033306Z
URL:https://business.dcrcoc.org/events/details/peppa-pig-live-surprise-10476256
END:VEVENT

END:VCALENDAR
