BEGIN:VCALENDAR
VERSION:2.0
PRODID:-//ChamberMaster//Event Calendar 2.0//EN
METHOD:PUBLISH
X-PUBLISHED-TTL:P3D
REFRESH-INTERVAL:P3D
CALSCALE:GREGORIAN
BEGIN:VEVENT
DTSTART:20200809T130000Z
DTEND:20200809T170000Z
X-MICROSOFT-CDO-ALLDAYEVENT:FALSE
SUMMARY:Pet First Aid\, CPR & Disaster Preparedness
DESCRIPTION:This course is ideal for all pet owners and pet caregivers. This unique course covers common health and safety-related issues for Dogs & Cats\, first aid basics\, CPR\, choking maneuvers for pets\, when to seek professional care and disaster planning for your pet. You practice your skills on furry life-like pet manikins. Course completion results in a certification card valid for 2-years from the Emergency Care and Safety Institute. Course Cost: $60.00 per person. Text and materials included. The class is from 9am to 1pm. Class sizes are restricted meaning that prior registration and payment is required. WE WILL NOT ACCOMMODATE ANY WALK-IN STUDENTS.
X-ALT-DESC;FMTTYPE=text/html:This course is ideal for all pet owners and pet caregivers. This unique course covers common health and safety-related issues for Dogs &amp\; Cats\, first aid basics\, CPR\, choking maneuvers for pets\, when to seek professional care and disaster planning for your pet. You practice your skills on furry life-like pet manikins. Course completion results in a certification card valid for 2-years from the Emergency Care and Safety Institute. Course Cost: $60.00 per person. Text and materials included. The class is from 9am to 1pm. Class sizes are restricted meaning that prior registration and payment is required. WE WILL NOT ACCOMMODATE ANY WALK-IN STUDENTS.
LOCATION:Northern Dutchess Hospital 6511 Springbrook Avenue Cafe Conference Room Rhinebeck\, NY 12572
UID:e.2770.10484170
SEQUENCE:3
DTSTAMP:20260422T015450Z
URL:https://business.dcrcoc.org/events/details/pet-first-aid-cpr-disaster-preparedness-10484170
END:VEVENT

END:VCALENDAR
