BEGIN:VCALENDAR
VERSION:2.0
PRODID:-//ChamberMaster//Event Calendar 2.0//EN
METHOD:PUBLISH
X-PUBLISHED-TTL:P3D
REFRESH-INTERVAL:P3D
CALSCALE:GREGORIAN
BEGIN:VEVENT
DTSTART:20191116T150000Z
DTEND:20191116T200000Z
X-MICROSOFT-CDO-ALLDAYEVENT:FALSE
SUMMARY:Pet Photos With Santa at the Dutchess County SPCA
DESCRIPTION:The Dutchess County SPCA invites you to have your pets' photo taken with Santa Claus. Perfect for your family holiday card or a Christmas keepsake! Photography by Al Novak from On-Location Studios.
X-ALT-DESC;FMTTYPE=text/html:The Dutchess County SPCA invites you to have your pets&#39\; photo taken with Santa Claus. Perfect for your family holiday card or a Christmas keepsake! Photography by Al Novak from On-Location Studios.
LOCATION:Dutchess County SPCA 636 Violet Avenue Hyde Park\, NY 2538
UID:e.2770.10482505
SEQUENCE:3
DTSTAMP:20260422T171025Z
URL:https://business.dcrcoc.org/events/details/pet-photos-with-santa-at-the-dutchess-county-spca-10482505
END:VEVENT

END:VCALENDAR
