BEGIN:VCALENDAR
VERSION:2.0
PRODID:-//ChamberMaster//Event Calendar 2.0//EN
METHOD:PUBLISH
X-PUBLISHED-TTL:P3D
REFRESH-INTERVAL:P3D
CALSCALE:GREGORIAN
BEGIN:VEVENT
DTSTART:20180210T200000Z
DTEND:20180210T230000Z
X-MICROSOFT-CDO-ALLDAYEVENT:FALSE
SUMMARY:Photowork 2018: 31st Annual National Juried Photography Exhibition
DESCRIPTION:NATIONAL PHOTOGRAPHY EXHIBITION HIGHLIGHTS HUDSON VALLEY TALENT\n\n\n\n[Poughkeepsie\, N.Y.] Barrett Art Center is pleased to announce that it will open Photowork 2018\, its 31st annual national juried photography exhibition\, on February 10.  Selected from over 800 entries\, Photowork 2018 will showcase 58 photographic works\, including 9 from Hudson Valley artists.\n\n\n\nE. Jason Wambsgans\, 2017 Pulitzer Prize Winner for photography of The Chicago Tribune\, has selected the works for the exhibition. He describes that as curator\, he "sought to select a body of work that creates\, connected by invisible and intangible narrative threads\, a vision of the wonder and mystery of our world." \n\n\n\nMid-Hudson photographers Jim Allen\, Millbrook\; Evan D'Arpino\, Beacon\; David King\, Lagrangeville\; Trevor Messersmith\, Marlboro\; Julie Mihaly and Les Muldorf\, Poughkeepsie\; and Jane Soodalter and Bidu Tashjian\, Cold Spring. have been selected to join 40 other photographers from 17 states for Photowork 2018.  Julie Mihaly's photograph is part of a year-long project titled "Radius"\, in which she photographed as many people as possible within a four-mile radius of her home in Poughkeepsie. \n\n\n\nJurors' awards with cash prizes for Photowork 2018 will be announced at 5:00 p.m. at the reception which is open and free to the public.  The list of prize winners and accepted entries will be posted on Barrett Art Center's website after the opening reception at www.barrettartcenter.org.
X-ALT-DESC;FMTTYPE=text/html:<span style="color:#222222"><span style="font-family:arial\,sans-serif"><span style="font-size:9.5pt">NATIONAL PHOTOGRAPHY EXHIBITION HIGHLIGHTS HUDSON VALLEY TALENT<br />\n<br />\n[Poughkeepsie\, N.Y.] Barrett Art Center is pleased to announce that it will open&nbsp\;Photowork&nbsp\;2018\, its 31st annual national juried photography exhibition\, on February 10.&nbsp\; Selected from over 800 entries\,&nbsp\;Photowork&nbsp\;2018&nbsp\;will showcase 58 photographic works\, including 9 from Hudson Valley artists.<br />\n<br />\nE. Jason Wambsgans\, 2017 Pulitzer Prize Winner for photography of The Chicago Tribune\, has selected the works for the exhibition. He describes that as curator\, he &ldquo\;sought to select a body of work that creates\, connected by invisible and intangible narrative threads\, a vision of the wonder and mystery of our world.&rdquo\;&nbsp\;<br />\n<br />\nMid-Hudson photographers Jim Allen\, Millbrook\; Evan D&rsquo\;Arpino\, Beacon\; David King\, Lagrangeville\; Trevor Messersmith\, Marlboro\; Julie Mihaly and Les Muldorf\, Poughkeepsie\; and Jane Soodalter and Bidu Tashjian\, Cold Spring. have been selected to join 40 other photographers from 17 states for&nbsp\;Photowork&nbsp\;2018.&nbsp\; Julie Mihaly&rsquo\;s photograph is part of a year-long project titled &ldquo\;Radius&rdquo\;\, in which she photographed as many people as possible within a four-mile radius of her home in Poughkeepsie.&nbsp\;<br />\n<br />\nJurors&rsquo\; awards with cash prizes for&nbsp\;Photowork&nbsp\;2018&nbsp\;will be announced at 5:00 p.m. at the reception which is open and free to the public.&nbsp\; The list of prize winners and accepted entries will be posted on Barrett Art Center&rsquo\;s website after the opening reception at&nbsp\;<a href="http://www.barrettartcenter.org/" target="_blank"><span style="color:#1155CC">www.barrettartcenter.org</span></a>.&nbsp\;&nbsp\;</span></span></span><br />\n&nbsp\;
LOCATION:Barrett Art Center 55 Noxon Street Poughkeepsie\, NY 12601 Email: info@barrettartcenter.org www.barrettartcenter.org
UID:e.2770.10476731
SEQUENCE:3
DTSTAMP:20260425T222619Z
URL:https://business.dcrcoc.org/events/details/photowork-2018-31st-annual-national-juried-photography-exhibition-10476731
END:VEVENT

END:VCALENDAR
