BEGIN:VCALENDAR
VERSION:2.0
PRODID:-//ChamberMaster//Event Calendar 2.0//EN
METHOD:PUBLISH
X-PUBLISHED-TTL:P3D
REFRESH-INTERVAL:P3D
CALSCALE:GREGORIAN
BEGIN:VEVENT
DTSTART:20190515T160000Z
DTEND:20190515T173000Z
X-MICROSOFT-CDO-ALLDAYEVENT:FALSE
SUMMARY:Physician in the Kitchen: Dr. Glenn Hamroff\, Lifestyle Changes for Supporting Heart Health
DESCRIPTION:Join Dr. Glenn Hamroff\, Cardiologist\, NewYork-Presbyterian Medical Group Hudson Valley\, for this opportunity to learn about management strategies and nutrition for heart health. A health-supportive lunch will be served. (No Charge)
X-ALT-DESC;FMTTYPE=text/html:Join Dr. Glenn Hamroff\, Cardiologist\, NewYork-Presbyterian Medical Group Hudson Valley\, for this opportunity to learn about management strategies and nutrition for heart health. A health-supportive lunch will be served. (No Charge)
LOCATION:NewYork-Presbyterian Hudson Valley Hospital Chef Peter X. Kelly Teaching Kitchen 1992 Crompond Road Cortlandt Manor\, NY
UID:e.2770.10480696
SEQUENCE:3
DTSTAMP:20260423T045608Z
URL:https://business.dcrcoc.org/events/details/physician-in-the-kitchen-dr-glenn-hamroff-lifestyle-changes-for-supporting-heart-health-10480696
END:VEVENT

END:VCALENDAR
