BEGIN:VCALENDAR
VERSION:2.0
PRODID:-//ChamberMaster//Event Calendar 2.0//EN
METHOD:PUBLISH
X-PUBLISHED-TTL:P3D
REFRESH-INTERVAL:P3D
CALSCALE:GREGORIAN
BEGIN:VEVENT
DTSTART:20190517T160000Z
DTEND:20190517T173000Z
X-MICROSOFT-CDO-ALLDAYEVENT:FALSE
SUMMARY:Physician in the Kitchen: Dr. Isaac Syrop\, Osteoporosis Diet: Eating for Bone Health
DESCRIPTION:In recognition of Osteoporosis Awareness month\, join Dr. Isaac Syrop\, Sports Medicine and Physical Medicine & Rehabilitation\, NewYork-Presbyterian Medical Group Hudson Valley\, for this opportunity to learn about osteoporosis and good nutrition. A health-supportive lunch will be served. (No Charge)
X-ALT-DESC;FMTTYPE=text/html:In recognition of Osteoporosis Awareness month\, join Dr. Isaac Syrop\, Sports Medicine and Physical Medicine &amp\; Rehabilitation\, NewYork-Presbyterian Medical Group Hudson Valley\, for this opportunity to learn about osteoporosis and good nutrition. A health-supportive lunch will be served. (No Charge)
LOCATION:NewYork-Presbyterian Hudson Valley Hospital Chef Peter X. Kelly Teaching Kitchen 1992 Crompond Road Cortlandt Manor\, NY
UID:e.2770.10480697
SEQUENCE:3
DTSTAMP:20260423T045644Z
URL:https://business.dcrcoc.org/events/details/physician-in-the-kitchen-dr-isaac-syrop-osteoporosis-diet-eating-for-bone-health-10480697
END:VEVENT

END:VCALENDAR
