BEGIN:VCALENDAR
VERSION:2.0
PRODID:-//ChamberMaster//Event Calendar 2.0//EN
METHOD:PUBLISH
X-PUBLISHED-TTL:P3D
REFRESH-INTERVAL:P3D
CALSCALE:GREGORIAN
BEGIN:VEVENT
DTSTART:20190416T160000Z
DTEND:20190416T173000Z
X-MICROSOFT-CDO-ALLDAYEVENT:FALSE
SUMMARY:Physician in the Kitchen: Dr. Phillip Calenda
DESCRIPTION:Join Dr. Phillip Calenda\, Ophthalmology\, NewYork-Presbyterian Medical Group Hudson Valley\, for this opportunity to learn about eye safety and supporting your eye health with good nutrition. A lunch\, prepared together\, will be served.
X-ALT-DESC;FMTTYPE=text/html:Join Dr. Phillip Calenda\, Ophthalmology\, NewYork-Presbyterian Medical Group Hudson Valley\, for this opportunity to learn about eye safety and supporting your eye health with good nutrition. A lunch\, prepared together\, will be served.
LOCATION:NewYork-Presbyterian Hudson Valley Hospital Chef Peter X. Kelly Teaching Kitchen 1992 Crompond Road Cortlandt Manor\, NY
UID:e.2770.10480593
SEQUENCE:3
DTSTAMP:20260423T063533Z
URL:https://business.dcrcoc.org/events/details/physician-in-the-kitchen-dr-phillip-calenda-10480593
END:VEVENT

END:VCALENDAR
