BEGIN:VCALENDAR
VERSION:2.0
PRODID:-//ChamberMaster//Event Calendar 2.0//EN
METHOD:PUBLISH
X-PUBLISHED-TTL:P3D
REFRESH-INTERVAL:P3D
CALSCALE:GREGORIAN
BEGIN:VEVENT
DTSTART:20190614T160000Z
DTEND:20190614T173000Z
X-MICROSOFT-CDO-ALLDAYEVENT:FALSE
SUMMARY:Physician in the Kitchen\, Michael Ford\, MD\, Internal Medicine
DESCRIPTION:Join Michael Ford\, MD\, Internal Medicine\, NewYork-Presbyterian Medical Group Hudson Valley\, for this opportunity to learn about plant-based cooking. A health-supportive lunch will be served.
X-ALT-DESC;FMTTYPE=text/html:Join Michael Ford\, MD\, Internal Medicine\, NewYork-Presbyterian Medical Group Hudson Valley\, for this opportunity to learn about plant-based cooking. A health-supportive lunch will be served.
LOCATION:NewYork-Presbyterian Hudson Valley Hospital Chef Peter X. Kelly Teaching Kitchen 1992 Crompond Road Cortlandt Manor\, NY
UID:e.2770.10480812
SEQUENCE:3
DTSTAMP:20260423T025252Z
URL:https://business.dcrcoc.org/events/details/physician-in-the-kitchen-michael-ford-md-internal-medicine-10480812
END:VEVENT

END:VCALENDAR
