BEGIN:VCALENDAR
VERSION:2.0
PRODID:-//ChamberMaster//Event Calendar 2.0//EN
METHOD:PUBLISH
X-PUBLISHED-TTL:P3D
REFRESH-INTERVAL:P3D
CALSCALE:GREGORIAN
BEGIN:VEVENT
DTSTART:20171015T163000Z
DTEND:20171015T200000Z
X-MICROSOFT-CDO-ALLDAYEVENT:FALSE
SUMMARY:Pigskins and Pints - A Wing Fest Event
DESCRIPTION:*** Ticket will be available for purchase at the door.\n\n\n\nSponsored by: DCH Wappingers Falls Toyota\, \n\nEmbroidMe\, Fortress Financial Advisory\, \n\nMcHoul Funeral Home\, Inc.\, Meyer Contracting\, \n\nMobile Life Support Services\, Poughkeepsie Plaza\, and \n\nS&O Construction Services - Celebrating 30 years!
X-ALT-DESC;FMTTYPE=text/html:<br />\n<span style="font-family: Helvetica\, Arial\, &quot\;Liberation Sans&quot\;\, FreeSans\, sans-serif\; font-size: 14px\; background-color: rgb(255\, 255\, 255)\;"><strong>*** Ticket will be available for purchase at the door.</strong><br />\n<br />\nSponsored by:&nbsp\;</span><b style="margin: 0px\; padding: 0px\; border: 0px\; outline: 0px\; font-size: 14px\; vertical-align: baseline\; background: rgb(255\, 255\, 255)\; font-family: Helvetica\, Arial\, &quot\;Liberation Sans&quot\;\, FreeSans\, sans-serif\;"><a href="https://www.dchwappingerstoyota.com/?utm_source=google&amp\;utm_medium=organic&amp\;utm_campaign=googlemybusiness" style="margin: 0px\; padding: 0px\; border: 0px\; outline: 0px\; vertical-align: baseline\; background: transparent\; color: rgb(1\, 83\, 160)\;" target="_blank"><span style="color:#0000FF\;">DCH Wappingers Falls Toyota</span></a><span style="color:#0000FF\;">\,</span></b><span style="color:#0000FF\;"><span style="font-family: Helvetica\, Arial\, &quot\;Liberation Sans&quot\;\, FreeSans\, sans-serif\; font-size: 14px\; background-color: rgb(255\, 255\, 255)\;">&nbsp\;</span></span><br />\n<a href="http://www.embroidme-poughkeepsie.com/" style="margin: 0px\; padding: 0px\; border: 0px\; outline: 0px\; font-size: 14px\; vertical-align: baseline\; background: rgb(255\, 255\, 255)\; color: rgb(1\, 83\, 160)\; font-family: Helvetica\, Arial\, &quot\;Liberation Sans&quot\;\, FreeSans\, sans-serif\; font-weight: bold\;" target="_blank"><span style="color:#0000FF\;">EmbroidMe</span></a><span style="color:#0000FF\;"><span style="font-family: Helvetica\, Arial\, &quot\;Liberation Sans&quot\;\, FreeSans\, sans-serif\; font-size: 14px\; background-color: rgb(255\, 255\, 255)\;">\,&nbsp\;</span></span><strong style="margin: 0px\; padding: 0px\; border: 0px\; outline: 0px\; font-size: 14px\; vertical-align: baseline\; background: rgb(255\, 255\, 255)\; font-family: Helvetica\, Arial\, &quot\;Liberation Sans&quot\;\, FreeSans\, sans-serif\;"><a href="http://lifemark.com/WilliamFrancis" style="margin: 0px\; padding: 0px\; border: 0px\; outline: 0px\; vertical-align: baseline\; background: transparent\; color: rgb(1\, 83\, 160)\;" target="_blank"><span style="color:#0000FF\;">Fortress Financial Advisory</span></a><span style="color:#0000FF\;">\,</span></strong><span style="font-family: Helvetica\, Arial\, &quot\;Liberation Sans&quot\;\, FreeSans\, sans-serif\; font-size: 14px\; background-color: rgb(255\, 255\, 255)\;"><span style="color:#0000FF\;">&nbsp\;</span><br />\n<b><a href="http://www.mchoulfuneralhome.com"><span style="color:#0000FF\;">McHoul Funeral Home\, Inc.</span></a><span style="color:#0000FF\;">\, </span></b></span><b style="margin: 0px\; padding: 0px\; border: 0px\; outline: 0px\; font-size: 14px\; vertical-align: baseline\; background: rgb(255\, 255\, 255)\; font-family: Helvetica\, Arial\, &quot\;Liberation Sans&quot\;\, FreeSans\, sans-serif\;"><a href="http://www.meyercontracting.com/" style="margin: 0px\; padding: 0px\; border: 0px\; outline: 0px\; vertical-align: baseline\; background: transparent\; color: rgb(1\, 83\, 160)\;" target="_blank"><span style="color:#0000FF\;">Meyer Contracting</span></a><span style="color:#0000FF\;">\,&nbsp\;</span></b><br />\n<strong style="margin: 0px\; padding: 0px\; border: 0px\; outline: 0px\; font-size: 14px\; vertical-align: baseline\; background: rgb(255\, 255\, 255)\; font-family: Helvetica\, Arial\, &quot\;Liberation Sans&quot\;\, FreeSans\, sans-serif\;"><a href="http://www.mobilelife.com/" style="margin: 0px\; padding: 0px\; border: 0px\; outline: 0px\; vertical-align: baseline\; background: transparent\; color: rgb(1\, 83\, 160)\;" target="_blank"><span style="color:#0000FF\;">Mobile Life Support Services</span></a><span style="color:#0000FF\;">\, </span><a href="http://www.poughkeepsieplaza.com"><span style="color:#0000FF\;">Poughkeepsie Plaza</span></a><span style="color:#0000FF\;">\, and&nbsp\;</span><br />\n<a href="http://soconserv.com/" style="margin: 0px\; padding: 0px\; border: 0px\; outline: 0px\; vertical-align: baseline\; background: transparent\; color: rgb(1\, 83\, 160)\;" target="_blank"><span style="color:#0000FF\;">S&amp\;O Construction Services - Celebrating 30 years!</span></a></strong>
LOCATION:Darby O'Gills Restaurant 3969 Albany Post Road Hyde Park\, NY 12538
UID:e.2770.10474406
SEQUENCE:3
DTSTAMP:20260426T033438Z
URL:https://business.dcrcoc.org/events/details/pigskins-and-pints-a-wing-fest-event-10474406
END:VEVENT

END:VCALENDAR
