BEGIN:VCALENDAR
VERSION:2.0
PRODID:-//ChamberMaster//Event Calendar 2.0//EN
METHOD:PUBLISH
X-PUBLISHED-TTL:P3D
REFRESH-INTERVAL:P3D
CALSCALE:GREGORIAN
BEGIN:VEVENT
DTSTART:20181028T163000Z
DTEND:20181028T200000Z
X-MICROSOFT-CDO-ALLDAYEVENT:FALSE
SUMMARY:Pigskins and Pints - A Wing Fest Event Benefiting The Chamber Foundation\, Inc.
DESCRIPTION:***TICKETS WILL BE SOLD AT THE DOOR.\n\n\n\nJoin us for a day of football\, wings\, beer and fun!\n\n	Casual atmosphere\, prizes\, games\, and music!\n	Featuring Giants vs. Redskins\, Jets vs. Bears\, and all other games!\n	Tickets:  $40 each or $70 for two\n	\n		Includes food and unlimited select draft beer\n	\n	\n\n\nSponsored by: Branding Pros\, Fortress Financial Advisory\, McHoul Funeral Home\, Meyer Contracting\, Mobile Life Support Services\, S&O Construction Services\, Rhinebeck Bank
X-ALT-DESC;FMTTYPE=text/html:<br />\n<span style="font-size: 14px\;"><span style="color: rgb(255\, 0\, 0)\;"><span style="font-family: arial\;"><span style="font-family: arial\;"><span style="font-family: arial\;"><span style="font-family: arial\;"><span style="font-size: 16px\;"><span style="font-size: 14px\;"><span style="font-family: arial\;"><span style="font-family: arial\;"><span style="font-family: arial\;"><span style="font-family: arial\;"><span style="font-size: 16px\;"><span style="font-size: 14px\;"><span style="font-family: arial\;"><span style="font-family: arial\;"><span style="font-family: arial\;"><span style="font-family: arial\;"><span style="font-size: 16px\;"><strong>***TICKETS WILL BE SOLD&nbsp\;AT THE DOOR.</strong></span></span></span></span></span></span></span></span></span></span></span></span></span></span></span></span></span></span><br />\n<br />\n<span style="font-size: 16px\;"><span style="font-family: arial\;">Join us for a day of football\, wings\, beer and fun!</span></span></span>\n<ul>\n	<li><span style="font-size: 14px\;"><span style="font-family: arial\;"><span style="font-size: 16px\;"><span style="font-family: arial\;"><span style="font-family: arial\;"><span style="font-family: arial\;">Casual atmosphere\, prizes\, games\, and music!</span></span></span></span></span></span></li>\n	<li><span style="font-size: 14px\;"><span style="font-family: arial\;"><span style="font-size: 16px\;"><em><span style="font-family: arial\;"><span style="font-family: arial\;"><span style="font-family: arial\;">Featuring Giants vs. Redskins\, Jets vs. Bears\, and all other games!</span></span></span></em></span></span></span></li>\n	<li><span style="font-size: 14px\;"><span style="font-family: arial\;"><span style="font-size: 16px\;"><span style="font-family: arial\;"><span style="font-family: arial\;"><span style="font-family: arial\;">Tickets:&nbsp\; $40 each or $70 for two</span></span></span></span></span></span>\n	<ul>\n		<li><span style="font-size: 14px\;"><span style="font-family: arial\;"><span style="font-family: arial\;"><span style="font-family: arial\;"><span style="font-family: arial\;"><span style="font-size: 16px\;">Includes food and unlimited select draft beer</span></span></span></span></span></span></li>\n	</ul>\n	</li>\n</ul>\n\n<p><span style="font-size: 14px\;"><span style="font-family: arial\;"><span style="font-family: arial\;"><span style="font-family: arial\;"><span style="font-family: arial\;"><span style="font-size: 14px\;"><span style="font-family: arial\;"><span style="background-color: rgb(255\, 255\, 255)\;"><span style="font-size: 16px\;"><strong>Sponsored by</strong>:</span>&nbsp\;</span><span style="font-size: 16px\;"><strong><span style="background: rgb(255\, 255\, 255)\; margin: 0px\; padding: 0px\; outline: 0px\; border: 0px currentColor\; border-image: none\; font-family: Helvetica\, Arial\, &quot\;Liberation Sans&quot\;\, FreeSans\, sans-serif\; font-weight: bold\; vertical-align: baseline\;"><a href="https://www.brandingpros.com/" target="_blank"><span style="color: rgb(0\, 0\, 205)\;">B</span></a></span><a href="https://www.brandingpros.com/" target="_blank"><span style="color: rgb(0\, 0\, 205)\;"><span style="background: rgb(255\, 255\, 255)\; margin: 0px\; padding: 0px\; outline: 0px\; border: 0px currentColor\; border-image: none\; font-family: Helvetica\, Arial\, &quot\;Liberation Sans&quot\;\, FreeSans\, sans-serif\; font-weight: bold\; vertical-align: baseline\;">randing Pros</span></span></a><span style="background-color: rgb(255\, 255\, 255)\;"><span style="color: rgb(0\, 0\, 205)\;">\, </span><a href="http://concierge.lifemark.com/WilliamFrancis" target="_blank"><span style="color: rgb(0\, 0\, 205)\;">Fortress Financial Advisory</span></a><span style="color: rgb(0\, 0\, 205)\;">\,&nbsp\;</span></span></strong></span></span><span style="font-size: 16px\;"><a href="http://www.mchoulfuneralhome.com/" target="_blank"><span style="color: rgb(0\, 0\, 205)\;"><strong><span style="font-family: calibri\,sans-serif\;"><span style="font-family: arial\;">McHoul Funeral Home</span></span></strong></span></a><span style="color: rgb(0\, 0\, 205)\;"><strong><span style="font-family: calibri\,sans-serif\;"><span style="font-family: arial\;">\,&nbsp\;</span></span></strong></span><span style="font-family: arial\;"><strong><a href="http://www.meyercontracting.com/" target="_blank"><span style="color: rgb(0\, 0\, 205)\;">Meyer Contracting</span></a><span style="color: rgb(0\, 0\, 205)\;">\, </span><a href="http://www.mobilelife.com" target="_blank"><span style="color: rgb(0\, 0\, 205)\;">Mobile Life Support Services</span></a><span style="color: rgb(0\, 0\, 205)\;">\,&nbsp\;</span><a href="http://soconserv.com/" target="_blank"><span style="color: rgb(0\, 0\, 205)\;">S&amp\;O Construction Services</span></a><span style="color: rgb(0\, 0\, 205)\;">\, </span><a href="http://www.rhinebeckbank.com" target="_blank"><span style="color: rgb(0\, 0\, 205)\;">Rhinebeck Bank</span></a></strong></span></span></span></span></span></span></span></span><br />\n<br />\n&nbsp\;</p>\n
LOCATION:Darby O'Gills Restaurant 3969 Albany Post Road Hyde Park\, NY 12538
UID:e.2770.10476517
SEQUENCE:3
DTSTAMP:20260425T115158Z
URL:https://business.dcrcoc.org/events/details/pigskins-and-pints-a-wing-fest-event-benefiting-the-chamber-foundation-inc-10476517
END:VEVENT

END:VCALENDAR
