BEGIN:VCALENDAR
VERSION:2.0
PRODID:-//ChamberMaster//Event Calendar 2.0//EN
METHOD:PUBLISH
X-PUBLISHED-TTL:P3D
REFRESH-INTERVAL:P3D
CALSCALE:GREGORIAN
BEGIN:VEVENT
DTSTART:20190615T170000Z
DTEND:20190615T200000Z
X-MICROSOFT-CDO-ALLDAYEVENT:FALSE
SUMMARY:Pint and Paws
DESCRIPTION:https://www.eventbrite.com/e/pints-and-paws-tickets-60411639841\nTICKET PRICE INCLUDES:\n\nONE BEER OF YOUR CHOICE\, WOOD FIRED PIZZA\, LIVE MUSIC\, ONE RAFFLE TICKET\, ACCESS TO GAMES\, VENDORS\, AND DEMOS FROM ANIMAL FARM FOUNDATIONS SERVICE DOGS IN TRAINING.
X-ALT-DESC;FMTTYPE=text/html:<a href="https://www.eventbrite.com/e/pints-and-paws-tickets-60411639841">https://www.eventbrite.com/e/pints-and-paws-tickets-60411639841</a>\n<p>TICKET PRICE INCLUDES:</p>\n\n<p>ONE BEER OF YOUR CHOICE\, WOOD FIRED PIZZA\, LIVE MUSIC\, ONE RAFFLE TICKET\, ACCESS TO GAMES\, VENDORS\, AND DEMOS FROM ANIMAL FARM FOUNDATIONS SERVICE DOGS IN TRAINING.</p>\n
LOCATION:Great Life Brewery - Kingston NY
UID:e.2770.10480772
SEQUENCE:3
DTSTAMP:20260423T024834Z
URL:https://business.dcrcoc.org/events/details/pint-and-paws-10480772
END:VEVENT

END:VCALENDAR
