BEGIN:VCALENDAR
VERSION:2.0
PRODID:-//ChamberMaster//Event Calendar 2.0//EN
METHOD:PUBLISH
X-PUBLISHED-TTL:P3D
REFRESH-INTERVAL:P3D
CALSCALE:GREGORIAN
BEGIN:VEVENT
DTSTART:20191119T220000Z
DTEND:20191120T010000Z
X-MICROSOFT-CDO-ALLDAYEVENT:FALSE
SUMMARY:Pints & Pros at King's Court Brewing Company
DESCRIPTION:Are you ready for another Pints & Pros? Our monthly networking event designed to link leading industry professionals with entrepreneurs\, small business owners\, and young professionals in the Hudson Valley is heading to King's Court Brewing Company in Poughkeepsie!\n\nOur November Pints & Pros is hosted by King's Court Brewing Company\, an epic brewer-owned and operated craft brewery and features the Dutchess County Regional Chamber of Commerce as our Partnering Pro! The Chamber will be handing out their annual small business resource guide filled with trusted local professionals for any of your needs AND will be waiving their $25 administrative fee for anyone who joins the day of the event!\n\nPlease join us for this fun and free event. Refreshments will be served. There will be delicious beer and wine for purchase. This is a 21+ Event.\n\nRegistration is required! Please make sure to register by visiting www.pintsandpros.com.
X-ALT-DESC;FMTTYPE=text/html:<p>Are you ready for another Pints &amp\; Pros? Our monthly networking event designed to link leading industry professionals with entrepreneurs\, small business owners\, and young professionals in the Hudson Valley is heading to King&#39\;s Court Brewing Company in Poughkeepsie!</p>\n\n<p>Our November Pints &amp\; Pros is hosted by King&#39\;s Court Brewing Company\, an epic brewer-owned and operated craft brewery and features the Dutchess County Regional Chamber of Commerce as our Partnering Pro! The Chamber will be handing out their annual small business resource guide filled with trusted local professionals for any of your needs AND will be waiving their $25 administrative fee for anyone who joins the day of the event!</p>\n\n<p>Please join us for this fun and free event. Refreshments will be served. There will be delicious beer and wine for purchase. This is a 21+ Event.</p>\n\n<p>Registration is required! Please make sure to register by visiting www.pintsandpros.com.</p>\n
LOCATION:King's Court Brewing Company 40 Cannon Street\, Suite 1 Poughkeepsie\, New York 12601
UID:e.2770.10481486
SEQUENCE:3
DTSTAMP:20260422T171025Z
URL:https://business.dcrcoc.org/events/details/pints-pros-at-king-s-court-brewing-company-10481486
END:VEVENT

END:VCALENDAR
