BEGIN:VCALENDAR
VERSION:2.0
PRODID:-//ChamberMaster//Event Calendar 2.0//EN
METHOD:PUBLISH
X-PUBLISHED-TTL:P3D
REFRESH-INTERVAL:P3D
CALSCALE:GREGORIAN
BEGIN:VEVENT
DTSTART:20190402T213000Z
DTEND:20190402T233000Z
X-MICROSOFT-CDO-ALLDAYEVENT:FALSE
SUMMARY:PKGO Getters
DESCRIPTION:Debut PKGO Getter event to feature Poughkeepsie native\, Jessica O. Matthews\, Founder and CEO of Uncharted Power\, as our featured speaker.  This event will take place on Tuesday\, April 2nd beginning at 5:30pm at the Bardavon\, Poughkeepsie.  \n\n\n\n\nPKGO aims to highlight the City of Poughkeepsie as a thriving\, growing city and to create a positive sense of community amongst current and future residents\, businesses and visitors. \n\n\n\nJessica's research and career centers around the intersection of disruptive technology\, renewable energy\, human behavior\, and the psychology of self-actualization. A dual citizen of Nigeria & the U.S.\, Jessica has a degree in Psychology and Economics from Harvard University\, an MBA from Harvard Business School\, and is listed on over 10 patents and patents pending including her first invention of the SOCCKET\, an energy generating soccer ball\, at the age of 19.\n\n\n\nThere is no charge for this event but pre-registration through EventBrite is requested.
X-ALT-DESC;FMTTYPE=text/html:<p><span style="color: rgb(29\, 33\, 41)\; font-family: helvetica\,arial\,sans-serif\; font-size: 14px\;">Debut PKGO Getter event to feature Poughkeepsie native\, Jessica O. Matthews\, Founder and CEO of Uncharted Power\, as our featured speaker.&nbsp\; This event will take place on Tuesday\, April 2nd beginning at </span>5:30pm<span style="color: rgb(29\, 33\, 41)\; font-family: helvetica\,arial\,sans-serif\; font-size: 14px\;"> at the Bardavon\, Poughkeepsie.&nbsp\;&nbsp\;</span></p>\n<br />\n<br />\n<span style="color: rgb(29\, 33\, 41)\; font-family: helvetica\,arial\,sans-serif\; font-size: 14px\;">PKGO aims to highlight the City of Poughkeepsie as a thriving\, growing city and to create a positive sense of community amongst current and future residents\, businesses and visitors. </span><br />\n<br />\n<span style="color: rgb(29\, 33\, 41)\; font-family: helvetica\,arial\,sans-serif\; font-size: 14px\;">Jessica&rsquo\;s research and career centers around the intersection of disruptive technology\, renewable energy\, human behavior\, and the psychology of self-actualization. A dual citizen of Nigeria &amp\; the U.S.\, Jessica has a degree in Psychology and Economics from Harvard University\, an MBA from Harvard Business School\, and is listed on over 10 patents and patents pending&mdash\;including her first invention of the SOCCKET\, an energy generating soccer ball\, at the age of 19.<br />\n<br />\nThere is no charge for this event but pre-registration through <a href="https://www.eventbrite.com/e/pkgo-getters-tickets-58389476496?aff=ebdssbdestsearch">EventBrite</a> is requested.&nbsp\;&nbsp\;</span>
LOCATION:Bardavon 35 Market Street Poughkeepsie
UID:e.2770.10480554
SEQUENCE:3
DTSTAMP:20260423T081357Z
URL:https://business.dcrcoc.org/events/details/pkgo-getters-10480554
END:VEVENT

END:VCALENDAR
