BEGIN:VCALENDAR
VERSION:2.0
PRODID:-//ChamberMaster//Event Calendar 2.0//EN
METHOD:PUBLISH
X-PUBLISHED-TTL:P3D
REFRESH-INTERVAL:P3D
CALSCALE:GREGORIAN
BEGIN:VEVENT
DTSTART:20171208T010000Z
DTEND:20171208T060000Z
X-MICROSOFT-CDO-ALLDAYEVENT:FALSE
SUMMARY:PnB Rock Live In Concert
DESCRIPTION:
X-ALT-DESC;FMTTYPE=text/html:
LOCATION:The Chance Theater 6 Cranell St Poughkeepsie\, NY
UID:e.2770.10476545
SEQUENCE:3
DTSTAMP:20260426T020615Z
URL:https://business.dcrcoc.org/events/details/pnb-rock-live-in-concert-10476545
END:VEVENT

END:VCALENDAR
