BEGIN:VCALENDAR
VERSION:2.0
PRODID:-//ChamberMaster//Event Calendar 2.0//EN
METHOD:PUBLISH
X-PUBLISHED-TTL:P3D
REFRESH-INTERVAL:P3D
CALSCALE:GREGORIAN
BEGIN:VEVENT
DTSTART:20200812T200000Z
DTEND:20200812T210000Z
X-MICROSOFT-CDO-ALLDAYEVENT:FALSE
SUMMARY:Positive Developments in Dutchess County
DESCRIPTION:The Chamber's next webinar is "Positive Developments in Dutchess County"\, featuring updates from Asst. County Executive Ron Hicks\, Joe Kirchhoff of Eastdale Village\, and John T. Greenan from Dutchess County Association of Realtors.\n\n \n\nThis virtual event will be presented on Zoom.\n\nPre-registration is required\, as space is limited\, click here. \n\n \n\nSponsored by: Branding Pros\, SRDD Law\, TEG Federal Credit Union
X-ALT-DESC;FMTTYPE=text/html:<p>&nbsp\;</p>\n\n<div>&nbsp\;</div>\n\n<div><span style="font-size:18px\;"><span style="font-family:times new roman\;"><span style="color: rgb(35\, 35\, 51)\; background-color: rgb(255\, 255\, 255)\;">The Chamber&#39\;s next webinar is &quot\;Positive Developments in&nbsp\;Dutchess County&quot\;\,&nbsp\;featuring updates from Asst. County Executive Ron Hicks\, Joe Kirchhoff of Eastdale Village\, and John T. Greenan from Dutchess County Association of Realtors.</span></span></span></div>\n\n<div>&nbsp\;</div>\n\n<p><span style="font-size:18px\;"><span style="font-family:times new roman\;"><span style="color:#000000\;">This virtual event will be presented on Zoom.<br />\nPre-registration is required\, as space is limited\, click </span><strong><a href="https://dcrcoc-org.zoom.us/webinar/register/WN_8CljrFgRSMiiiaZirXfKTw" target="_blank"><span style="color:#0000FF\;">here</span></a></strong><span style="color:#000000\;">.&nbsp\;<br />\n&nbsp\;<br />\n<strong>Sponsored by</strong>: </span><strong><a href="https://www.brandingpros.com/" target="_blank"><span style="color:#0000CD\;">Branding Pros</span></a></strong><span style="color:#000000\;">\,&nbsp\;</span><strong><a href="https://srddlaw.com/" target="_blank"><span style="color:#0000FF\;">SRDD Law</span></a></strong><span style="color:#000000\;">\, </span><strong><a href="https://www.tegfcu.com/" target="_blank"><span style="color:#0000FF\;">TEG Federal Credit Union</span></a></strong><br />\n&nbsp\;</span></span></p>\n
LOCATION:
UID:e.2770.10482541
SEQUENCE:3
DTSTAMP:20260422T015230Z
URL:https://business.dcrcoc.org/events/details/positive-developments-in-dutchess-county-10482541
END:VEVENT

END:VCALENDAR
