BEGIN:VCALENDAR
VERSION:2.0
PRODID:-//ChamberMaster//Event Calendar 2.0//EN
METHOD:PUBLISH
X-PUBLISHED-TTL:P3D
REFRESH-INTERVAL:P3D
CALSCALE:GREGORIAN
BEGIN:VEVENT
DTSTART:20190425T133000Z
DTEND:20190425T180000Z
X-MICROSOFT-CDO-ALLDAYEVENT:FALSE
SUMMARY:Poughkeepsie High School Career and Job Fair
DESCRIPTION:p.p1 {margin: 0.0px 0.0px 0.0px 0.0px\; font: 15.0px Calibri\; color: #1e497d}\n\nThis innovative career and job fair will highlight potential career pathways and employment opportunities within various business industries. With 60 exhibitors registered to attend\, the students of Poughkeepsie High School will get a chance to match their skills and interests to real world choices.
X-ALT-DESC;FMTTYPE=text/html:<style type="text/css">p.p1 {margin: 0.0px 0.0px 0.0px 0.0px\; font: 15.0px Calibri\; color: #1e497d}\n</style>\n<p class="p1"><span style="color:#000000\;">This innovative career and job fair will highlight potential career pathways and employment opportunities within various business industries.&nbsp\;With 60 exhibitors registered to attend\, the students of Poughkeepsie High School will get a chance to match their skills and interests to real world choices.</span></p>\n
LOCATION:Poughkeepsie High School 70 Forbus Street Poughkeepsie\, NY 12603
UID:e.2770.10479415
SEQUENCE:3
DTSTAMP:20260423T062736Z
URL:https://business.dcrcoc.org/events/details/poughkeepsie-high-school-career-and-job-fair-10479415
END:VEVENT

END:VCALENDAR
