BEGIN:VCALENDAR
VERSION:2.0
PRODID:-//ChamberMaster//Event Calendar 2.0//EN
METHOD:PUBLISH
X-PUBLISHED-TTL:P3D
REFRESH-INTERVAL:P3D
CALSCALE:GREGORIAN
BEGIN:VEVENT
DTSTART:20190905T220000Z
DTEND:20190906T020000Z
X-MICROSOFT-CDO-ALLDAYEVENT:FALSE
SUMMARY:Poughkeepsie Rotary Club Centenial Celebration
DESCRIPTION:Dinner Dance to celebrate 100 years of community service.
X-ALT-DESC;FMTTYPE=text/html:Dinner Dance to celebrate 100 years of community service.
LOCATION:Christos Catering 155 Wilbur Boulevard Poughkeepsie
UID:e.2770.10480662
SEQUENCE:3
DTSTAMP:20260422T215704Z
URL:https://business.dcrcoc.org/events/details/poughkeepsie-rotary-club-centenial-celebration-10480662
END:VEVENT

END:VCALENDAR
