BEGIN:VCALENDAR
VERSION:2.0
PRODID:-//ChamberMaster//Event Calendar 2.0//EN
METHOD:PUBLISH
X-PUBLISHED-TTL:P3D
REFRESH-INTERVAL:P3D
CALSCALE:GREGORIAN
BEGIN:VEVENT
DTSTART:20201028T180000Z
DTEND:20201028T190000Z
X-MICROSOFT-CDO-ALLDAYEVENT:FALSE
SUMMARY:Practical Guidance for EIDL & SBA Programs
DESCRIPTION:On October 28\, 2020\, IgniteU NY will be hosting a virtual webinar with Joe Bonilla\, Daniel T. Kane\, and William Winter to discuss how small businesses can use EIDL funds for their operations\, reporting requirements for borrowers\, and other opportunities to potentially secure more funding through SBA programs under the latest stimulus package.
X-ALT-DESC;FMTTYPE=text/html:On October 28\, 2020\, IgniteU NY will be hosting a virtual webinar with Joe Bonilla\, Daniel T. Kane\, and William Winter to discuss how small businesses can use EIDL funds for their operations\, reporting requirements for borrowers\, and other opportunities to potentially secure more funding through SBA programs under the latest stimulus package.
LOCATION:Virtual
UID:e.2770.10484503
SEQUENCE:3
DTSTAMP:20260421T222943Z
URL:https://business.dcrcoc.org/events/details/practical-guidance-for-eidl-sba-programs-10484503
END:VEVENT

END:VCALENDAR
