BEGIN:VCALENDAR
VERSION:2.0
PRODID:-//ChamberMaster//Event Calendar 2.0//EN
METHOD:PUBLISH
X-PUBLISHED-TTL:P3D
REFRESH-INTERVAL:P3D
CALSCALE:GREGORIAN
BEGIN:VEVENT
DTSTART:20180424T210000Z
DTEND:20180424T230000Z
X-MICROSOFT-CDO-ALLDAYEVENT:FALSE
SUMMARY:Primary Focus Art Exhibit and Reception
DESCRIPTION:Anderson Center for Autism is partnering with Mid-Hudson Heritage Center during the month of April for Autism Awareness month. Our Adult Services Art Program\, Expressive Outcomes\, will have artwork on display the entire month of April. Stop in on Tuesday\, April 24th from 5:00PM to 7:00PM to meet the artists. Light refreshments will be served. Questions? Please contact info@AndersonCares.org
X-ALT-DESC;FMTTYPE=text/html:Anderson Center for Autism is partnering with Mid-Hudson Heritage Center during the month of April for Autism Awareness month. Our Adult Services Art Program\, Expressive Outcomes\, will have artwork on display the entire month of April. Stop in on Tuesday\, April 24th from 5:00PM to 7:00PM to meet the artists. Light refreshments will be served. Questions? Please contact info@AndersonCares.org
LOCATION:Mid-Hudson Heritage Center\, 317 Main St\, Poughkeepsie\, NY 12601
UID:e.2770.10477614
SEQUENCE:3
DTSTAMP:20260425T194906Z
URL:https://business.dcrcoc.org/events/details/primary-focus-art-exhibit-and-reception-10477614
END:VEVENT

END:VCALENDAR
