BEGIN:VCALENDAR
VERSION:2.0
PRODID:-//ChamberMaster//Event Calendar 2.0//EN
METHOD:PUBLISH
X-PUBLISHED-TTL:P3D
REFRESH-INTERVAL:P3D
CALSCALE:GREGORIAN
BEGIN:VEVENT
DTSTART;VALUE=DATE:20180702
DTEND;VALUE=DATE:20180811
TRANSP:TRANSPARENT
X-MICROSOFT-CDO-ALLDAYEVENT:TRUE
SUMMARY:Primrose Hill School Summer Camps
DESCRIPTION:Join us this summer for Nature Camp\, Farm and Garden Camp\, Circus Camp\, and Cooking Camp! For ages 3-12\, on our beautiful 7.5-acre farm campus in Rhinebeck. Sibling discount and aftercare available.
X-ALT-DESC;FMTTYPE=text/html:Join us this summer for Nature Camp\, Farm and Garden Camp\, Circus Camp\, and Cooking Camp! For ages 3-12\, on our beautiful 7.5-acre farm campus in Rhinebeck. Sibling discount and aftercare available.
LOCATION:Primrose Hill School 23 Spring Brook Park Rhinebeck\, NY 12572
UID:e.2770.10477643
SEQUENCE:3
DTSTAMP:20260425T154408Z
URL:https://business.dcrcoc.org/events/details/primrose-hill-school-summer-camps-10477643
END:VEVENT

END:VCALENDAR
