BEGIN:VCALENDAR
VERSION:2.0
PRODID:-//ChamberMaster//Event Calendar 2.0//EN
METHOD:PUBLISH
X-PUBLISHED-TTL:P3D
REFRESH-INTERVAL:P3D
CALSCALE:GREGORIAN
BEGIN:VEVENT
DTSTART:20180415T170000Z
DTEND:20180415T200000Z
X-MICROSOFT-CDO-ALLDAYEVENT:FALSE
SUMMARY:Princess Tea Party
DESCRIPTION:Calling all Princesses and their Royal Entourages! Once again\, we have a fabulous afternoon planned! Your tickets include a scrumptious lunch and treats\, two crafts for each princess to make and take home\, the beautiful princesses from the land of Once Upon A Tea Party in specially designated areas just waiting for our royal guests to come have their autograph books signed\, face and nail painting and dancing. We will also have an expanded marketplace\, which we are sure will become a royal shopping mecca\, Hudson Valley Photo's royal photobooth\, the amazing hair braiders from Signature Braids and raffles\, so don't forget the Royal Purse! This magical afternoon is for princesses ages 4-12 and their moms\, grandmothers\, aunts and friends. All children must be accompanied by an adult. Sponsorships come with tickets and royal perks and are still available from $500 on up. Join our amazing sponsors Dutchess Orthodontics\, Earth Angels Veterinary Hospital\, Feldman\, Kleidman\, Coffey\, Sappe & Regenbaum LLP\, Gold's Gym\, M & O Sanitation\, Inc.\, Taconic Dental\, Once Upon A Tea Party\, Poughkeepsie Custom Woodworks LLC and TEG Federal Credit Union and make a difference! All proceeds from the Princess Tea Party will be used to fund children's programs and services.
X-ALT-DESC;FMTTYPE=text/html:Calling all Princesses and their Royal Entourages! Once again\, we have a fabulous afternoon planned! Your tickets include a scrumptious lunch and treats\, two crafts for each princess to make and take home\, the beautiful princesses from the land of Once Upon A Tea Party in specially designated areas just waiting for our royal guests to come have their autograph books signed\, face and nail painting and dancing. We will also have an expanded marketplace\, which we are sure will become a royal shopping mecca\, Hudson Valley Photo&rsquo\;s royal photobooth\, the amazing hair braiders from Signature Braids and raffles\, so don&#39\;t forget the Royal Purse! This magical afternoon is for princesses ages 4-12 and their moms\, grandmothers\, aunts and friends. All children must be accompanied by an adult. Sponsorships come with tickets and royal perks and are still available from $500 on up. Join our amazing sponsors Dutchess Orthodontics\, Earth Angels Veterinary Hospital\, Feldman\, Kleidman\, Coffey\, Sappe &amp\; Regenbaum LLP\, Gold&#39\;s Gym\, M &amp\; O Sanitation\, Inc.\, Taconic Dental\, Once Upon A Tea Party\, Poughkeepsie Custom Woodworks LLC and TEG Federal Credit Union and make a difference! All proceeds from the Princess Tea Party will be used to fund children&rsquo\;s programs and services.
LOCATION:The Poughkeepsie Grand Hotel
UID:e.2770.10477171
SEQUENCE:3
DTSTAMP:20260425T194844Z
URL:https://business.dcrcoc.org/events/details/princess-tea-party-10477171
END:VEVENT

END:VCALENDAR
