BEGIN:VCALENDAR
VERSION:2.0
PRODID:-//ChamberMaster//Event Calendar 2.0//EN
METHOD:PUBLISH
X-PUBLISHED-TTL:P3D
REFRESH-INTERVAL:P3D
CALSCALE:GREGORIAN
BEGIN:VEVENT
DTSTART:20200311T220000Z
DTEND:20200312T010000Z
X-MICROSOFT-CDO-ALLDAYEVENT:FALSE
SUMMARY:Programa de Entrenamiento Empresarial
DESCRIPTION:Obtenga ayuda para empezar\, mejorar o establecer su propio negocio.\n\n\n\nEl Programa de 60+ horas incluye:\n\n\n	\n	Estableciendo Precios para su Producto/Servicio\n	\n	\n	Entrenamiento de Computaci n\n	\n	\n	Contabilidad\n	\n	\n	Estructuras Legales\, Licencias\, e Impuestos\n	\n	\n	Mercadeo por Redes Sociales\n	\n	\n	Preparando el Plan de Negocio
X-ALT-DESC;FMTTYPE=text/html:<p><span style="font-size:16px"><strong>Obtenga ayuda para empezar\, mejorar o establecer su propio negocio.</strong><br />\n<br />\n<u>El Programa de 60+ horas incluye:</u></span></p>\n\n<ul>\n	<li>\n	<p><span style="font-size:16px">Estableciendo Precios para su Producto/Servicio</span></p>\n	</li>\n	<li>\n	<p><span style="font-size:16px">Entrenamiento de Computaci&oacute\;n</span></p>\n	</li>\n	<li>\n	<p><span style="font-size:16px">Contabilidad</span></p>\n	</li>\n	<li>\n	<p><span style="font-size:16px">Estructuras Legales\, Licencias\, e Impuestos</span></p>\n	</li>\n	<li>\n	<p><span style="font-size:16px">Mercadeo por Redes Sociales</span></p>\n	</li>\n	<li>\n	<p><span style="font-size:16px">Preparando el Plan de Negocio</span></p>\n	</li>\n</ul>\n
LOCATION:SUNY Orange 1 Washington Center Newburgh\, NY 12550
UID:e.2770.10482537
SEQUENCE:3
DTSTAMP:20260422T104708Z
URL:https://business.dcrcoc.org/events/details/programa-de-entrenamiento-empresarial-10482537
END:VEVENT

END:VCALENDAR
