BEGIN:VCALENDAR
VERSION:2.0
PRODID:-//ChamberMaster//Event Calendar 2.0//EN
METHOD:PUBLISH
X-PUBLISHED-TTL:P3D
REFRESH-INTERVAL:P3D
CALSCALE:GREGORIAN
BEGIN:VEVENT
DTSTART:20190312T220000Z
DTEND:20190313T010000Z
X-MICROSOFT-CDO-ALLDAYEVENT:FALSE
SUMMARY:Programa de Entrenamiento Empresarial - Primavera 2019 (Business Training Program - Spring 2019)
DESCRIPTION:Si tiene una idea para un negocio\, algo de experiencia en el campo\, o ha iniciado un negocio\, entonces este curso es adecuado para usted.  Ayuda a todos los empresarios a concentrarse\, establecer agendas y dar el siguiente paso para hacer crecer sus negocios.   Asistir al curso es solo el comienzo de su viaje!\n\n\nEl Programa de Entrenamiento Empresarial de 60+ horas incluye:  \n\n  Planificaci n del Mercadeo\n\n  Flujo de Caja\n\n  Operaciones\n\n  Asuntos Legales\n\n  Mercadeo por Redes Sociales\n\n  Planificaci n para el  xito\n\n  Informaci n sobre Acceso al Capital\n\n\n\nObtenga ayuda para empezar\, mejorar o establecer su propio negocio.
X-ALT-DESC;FMTTYPE=text/html:<span style="font-size: 16px\;">Si tiene una idea para un negocio\, algo de experiencia en el campo\, o ha iniciado un negocio\, entonces este curso es adecuado para usted.&nbsp\; Ayuda a todos los empresarios a concentrarse\, establecer agendas y dar el siguiente paso para hacer crecer sus negocios.&nbsp\; &iexcl\;Asistir al curso es solo el comienzo de su viaje!</span>\n<p><br />\n<span style="font-size: 16px\;"><span style="font-family: calibri\;">El Programa de Entrenamiento </span><span style="font-family: calibri\;">Empresarial de 60+ horas incluye: </span>&nbsp\;<br />\n<span style="color: black\;"><span style="font-family: symbol\;">&middot\;</span></span>&nbsp\;<span style="font-family: calibri\;">Planificaci&oacute\;n del Mercadeo</span><br />\n<span style="color: black\;"><span style="font-family: symbol\;">&middot\;</span></span>&nbsp\;<span style="font-family: calibri\;">Flujo de Caja</span><br />\n<span style="color: black\;"><span style="font-family: symbol\;">&middot\;</span></span>&nbsp\;<span style="font-family: calibri\;">Operaciones</span><br />\n<span style="color: black\;"><span style="font-family: symbol\;">&middot\;</span></span>&nbsp\;<span style="font-family: calibri\;">Asuntos Legale</span><span style="font-family: calibri\;">s</span><br />\n<span style="color: black\;"><span style="font-family: symbol\;">&middot\;</span></span>&nbsp\;<span style="font-family: calibri\;">Mercadeo por Redes Sociales</span><br />\n<span style="color: black\;"><span style="font-family: symbol\;">&middot\;</span></span>&nbsp\;<span style="font-family: calibri\;">Planificaci&oacute\;n </span><span style="font-family: calibri\;">para el</span><span style="font-family: calibri\;"> &Eacute\;xito</span><br />\n<span style="color: black\;"><span style="font-family: symbol\;">&middot\;</span></span>&nbsp\;<span style="font-family: calibri\;">Informaci&oacute\;n</span> <span style="font-family: calibri\;">sobre Acceso </span><span style="font-family: calibri\;">al Capital<br />\n<br />\nObtenga ayuda para empezar\, mejorar o establecer su propio negocio.</span></span></p>\n
LOCATION:SUNY Orange- Newburgh Campus One Washington Center Newburgh\, NY 12550
UID:e.2770.10479810
SEQUENCE:3
DTSTAMP:20260423T081547Z
URL:https://business.dcrcoc.org/events/details/programa-de-entrenamiento-empresarial-primavera-2019-business-training-program-spring-2019-10479810
END:VEVENT

END:VCALENDAR
