BEGIN:VCALENDAR
VERSION:2.0
PRODID:-//ChamberMaster//Event Calendar 2.0//EN
METHOD:PUBLISH
X-PUBLISHED-TTL:P3D
REFRESH-INTERVAL:P3D
CALSCALE:GREGORIAN
BEGIN:VEVENT
DTSTART:20180811T190000Z
DTEND:20180811T220000Z
X-MICROSOFT-CDO-ALLDAYEVENT:FALSE
SUMMARY:Pushing Paper
DESCRIPTION:Barrett Art Center presents: Pushing Paper\n\n\n\nSelected Artists: \n\nJ.L. Abraham (New York\, NY)\n\nIlene Africk (Armonk\, NY)\n\nTayler Allen-Galusha (Prattville\, AL)\n\nSharron Antholt (Lummi Island\, WA)\n\nJessica Aquino (Philadelphia\, PA)\n\nBirgit Astergaard (Aarhus\, Denmark)\n\nJonathan Barrios (Brooklyn\, NY)\n\nPat Bega (Shelburne Falls\, MA)\n\nTina Bernstein (Beacon\, NY)\n\nLian Brehm (Hardwick\,VT)\n\nMichele Brody (Bronx\, NY)\n\nTim Burleson (Nacogdoches\, TX)\n\nHelen Cantrell (Old Lyme\, CT)\n\nBrigitte Caramanna (New York\, NY)\n\nPaul Chapman (Hudson Falls\, NY)\n\nLennox Commissiong (Hicksville\, NY)\n\nJennifer Deppe Parker (New York\, NY)\n\nKim Fink (Grand Forks\, ND)\n\nDebra Friedkin (Sleepy Hollow\, NY)\n\nRobin Gibson (State College\, PA)\n\nRonald Gonzalez (Johnson City\, NY)\nLeah Hamel (Baton Rogue\, LA)\n\nMitsuhiro Haraguchi (New York\, NY)\n\nSusan Hensel (Minneapolis\, MN)\n\nTayo Heuser (Providence\, RI)\n\nSamatha Holmes (New York\, NY)\n\nPeter Joslin (Charlotte\, VT)\n\nEllen Kier (New York\, NY)\n\nArie Knoops (San Francisco\, CA)\n\nHanna Kozlowski (Huntington\, WV)\n\nLeah Lewman (Ellicott City\, MD)\n\nDan McCormack (Accord\, NY)\n\nKathleen Miles (New York\, NY)\n\nChristine Miller (Whitewater\, WI)\n\nAmy Richard (Gainesville\, FL)\n\nMichelle Samour (Acton\, MA)\n\nEmanuelle Schaer (Passaic\, NJ)\n\nAlan Singer (Rochester\, NY)\n\nOlga Skorokhod (Roseburg\, OR)\n\nLindy Soffer (Chicago\, IL)\n\nJack Straton (Portland\, OR)\n\nThomas Vanwinkle (Fishkill\, NY\n\nKuzma Vostrikov (New York\, NY)\n\nAndy Wellington (Brooklyn\, NY)\n\nThom Williams (Cropseyville\, NY)\n\n\nAbout the Juror: Paul Wong\, Master Papermaker\, Dieu Donn  (?Papermill?\, Brooklyn Navy Yard)\n\n\n\nPaul Wong is Artistic Director (retired 2017) of Dieu Donn  and a master papermaker/artist who has collaborated with artists such as Chuck Close\, Richard Tuttle\, Jim Hodges\, Ursula Von Rydingsvard\, Louise Bourgeois\, among many other major artists producing groundbreaking work in the creative papermaking medium for over 38 years. He has been awarded grants from the NEA\, NYFA and the Joan Mitchell Foundation. Wong has widely exhibited his work in paper\, books\, and installations since 1975 at museums and galleries including Neuberger Museum\, Plains Museum\, Columbia College Center for Book and Paper Arts\, and Dieu Donn . He has conducted papermaking lectures and workshops including: NY Library\, Haystack\, Penland\, Banff\, Oxbow\, PBI\, UArts-Philadelphia\, UA-Tuscaloosa\, Columbia College-Chicago\, Morgan Conservatory-Cleveland
X-ALT-DESC;FMTTYPE=text/html:<strong><u><span style="font-size:16px">Barrett Art Center presents: Pushing Paper</span></u></strong><br />\n<br />\n<span style="font-size:12px"><span style="color:rgb(29\, 33\, 41)\; font-family:helvetica\,arial\,sans-serif">Selected Artists:&nbsp\;</span><br />\n<span style="color:rgb(29\, 33\, 41)\; font-family:helvetica\,arial\,sans-serif">J.L. Abraham (New York\, NY)</span><br />\n<span style="color:rgb(29\, 33\, 41)\; font-family:helvetica\,arial\,sans-serif">Ilene Africk (Armonk\, NY)</span><br />\n<span style="color:rgb(29\, 33\, 41)\; font-family:helvetica\,arial\,sans-serif">Tayler Allen-Galusha (Prattville\, AL)</span><br />\n<span style="color:rgb(29\, 33\, 41)\; font-family:helvetica\,arial\,sans-serif">Sharron Antholt (Lummi Island\, WA)</span><br />\n<span style="color:rgb(29\, 33\, 41)\; font-family:helvetica\,arial\,sans-serif">Jessica Aquino (Philadelphia\, PA)</span><br />\n<span style="color:rgb(29\, 33\, 41)\; font-family:helvetica\,arial\,sans-serif">Birgit Astergaard (Aarhus\, Denmark)</span><br />\n<span style="color:rgb(29\, 33\, 41)\; font-family:helvetica\,arial\,sans-serif">Jonathan Barrios (Brooklyn\, NY)</span><br />\n<span style="color:rgb(29\, 33\, 41)\; font-family:helvetica\,arial\,sans-serif">Pat Bega (Shelburne Falls\, MA)</span><br />\n<span style="color:rgb(29\, 33\, 41)\; font-family:helvetica\,arial\,sans-serif">Tina Bernstein (Beacon\, NY)</span><br />\n<span style="color:rgb(29\, 33\, 41)\; font-family:helvetica\,arial\,sans-serif">Lian Brehm (Hardwick\,VT)</span><br />\n<span style="color:rgb(29\, 33\, 41)\; font-family:helvetica\,arial\,sans-serif">Michele Brody (Bronx\, NY)</span><br />\n<span style="color:rgb(29\, 33\, 41)\; font-family:helvetica\,arial\,sans-serif">Tim Burleson (Nacogdoches\, TX)</span><br />\n<span style="color:rgb(29\, 33\, 41)\; font-family:helvetica\,arial\,sans-serif">Helen Cantrell (Old Lyme\, CT)</span><br />\n<span style="color:rgb(29\, 33\, 41)\; font-family:helvetica\,arial\,sans-serif">Brigitte Caramanna (New York\, NY)</span><br />\n<span style="color:rgb(29\, 33\, 41)\; font-family:helvetica\,arial\,sans-serif">Paul Chapman (Hudson Falls\, NY)</span><br />\n<span style="color:rgb(29\, 33\, 41)\; font-family:helvetica\,arial\,sans-serif">Lennox Commissiong (Hicksville\, NY)</span><br />\n<span style="color:rgb(29\, 33\, 41)\; font-family:helvetica\,arial\,sans-serif">Jennifer Deppe Parker (New York\, NY)</span><br />\n<span style="color:rgb(29\, 33\, 41)\; font-family:helvetica\,arial\,sans-serif">Kim Fink (Grand Forks\, ND)</span><br />\n<span style="color:rgb(29\, 33\, 41)\; font-family:helvetica\,arial\,sans-serif">Debra Friedkin (Sleepy Hollow\, NY)</span><br />\n<span style="color:rgb(29\, 33\, 41)\; font-family:helvetica\,arial\,sans-serif">Robin Gibson (State College\, PA)</span><br />\n<span style="color:rgb(29\, 33\, 41)\; font-family:helvetica\,arial\,sans-serif">Ronald Gonzalez (Johnson City\, NY)</span></span>\n<div><span style="color:rgb(29\, 33\, 41)\; font-family:helvetica\,arial\,sans-serif\; font-size:12px">Leah Hamel (Baton Rogue\, LA)</span></div>\n\n<div><span style="font-size:12px"><span style="color:rgb(29\, 33\, 41)\; font-family:helvetica\,arial\,sans-serif">Mitsuhiro Haraguchi (New York\, NY)</span><br />\n<span style="color:rgb(29\, 33\, 41)\; font-family:helvetica\,arial\,sans-serif">Susan Hensel (Minneapolis\, MN)</span><br />\n<span style="color:rgb(29\, 33\, 41)\; font-family:helvetica\,arial\,sans-serif">Tayo Heuser (Providence\, RI)</span><br />\n<span style="color:rgb(29\, 33\, 41)\; font-family:helvetica\,arial\,sans-serif">Samatha Holmes (New York\, NY)</span><br />\n<span style="color:rgb(29\, 33\, 41)\; font-family:helvetica\,arial\,sans-serif">Peter Joslin (Charlotte\, VT)</span><br />\n<span style="color:rgb(29\, 33\, 41)\; font-family:helvetica\,arial\,sans-serif">Ellen Kier (New York\, NY)</span><br />\n<span style="color:rgb(29\, 33\, 41)\; font-family:helvetica\,arial\,sans-serif">Arie Knoops (San Francisco\, CA)</span><br />\n<span style="color:rgb(29\, 33\, 41)\; font-family:helvetica\,arial\,sans-serif">Hanna Kozlowski (Huntington\, WV)</span><br />\n<span style="color:rgb(29\, 33\, 41)\; font-family:helvetica\,arial\,sans-serif">Leah Lewman (Ellicott City\, MD)</span><br />\n<span style="color:rgb(29\, 33\, 41)\; font-family:helvetica\,arial\,sans-serif">Dan McCormack (Accord\, NY)</span><br />\n<span style="color:rgb(29\, 33\, 41)\; font-family:helvetica\,arial\,sans-serif">Kathleen Miles (New York\, NY)</span><br />\n<span style="color:rgb(29\, 33\, 41)\; font-family:helvetica\,arial\,sans-serif">Christine Miller (Whitewater\, WI)</span><br />\n<span style="color:rgb(29\, 33\, 41)\; font-family:helvetica\,arial\,sans-serif">Amy Richard (Gainesville\, FL)</span><br />\n<span style="color:rgb(29\, 33\, 41)\; font-family:helvetica\,arial\,sans-serif">Michelle Samour (Acton\, MA)</span><br />\n<span style="color:rgb(29\, 33\, 41)\; font-family:helvetica\,arial\,sans-serif">Emanuelle Schaer (Passaic\, NJ)</span><br />\n<span style="color:rgb(29\, 33\, 41)\; font-family:helvetica\,arial\,sans-serif">Alan Singer (Rochester\, NY)</span><br />\n<span style="color:rgb(29\, 33\, 41)\; font-family:helvetica\,arial\,sans-serif">Olga Skorokhod (Roseburg\, OR)</span><br />\n<span style="color:rgb(29\, 33\, 41)\; font-family:helvetica\,arial\,sans-serif">Lindy Soffer (Chicago\, IL)</span><br />\n<span style="color:rgb(29\, 33\, 41)\; font-family:helvetica\,arial\,sans-serif">Jack Straton (Portland\, OR)</span><br />\n<span style="color:rgb(29\, 33\, 41)\; font-family:helvetica\,arial\,sans-serif">Thomas Vanwinkle (Fishkill\, NY</span><br />\n<span style="color:rgb(29\, 33\, 41)\; font-family:helvetica\,arial\,sans-serif">Kuzma Vostrikov (New York\, NY)</span><br />\n<span style="color:rgb(29\, 33\, 41)\; font-family:helvetica\,arial\,sans-serif">Andy Wellington (Brooklyn\, NY)</span><br />\n<span style="color:rgb(29\, 33\, 41)\; font-family:helvetica\,arial\,sans-serif">Thom Williams (Cropseyville\, NY)</span></span></div>\n<br />\n<strong><span style="font-size:12px"><span style="color:rgb(29\, 33\, 41)\; font-family:helvetica\,arial\,sans-serif">About the Juror: Paul Wong\, Master Papermaker\, Dieu Donn&eacute\; (?Papermill?\, Brooklyn Navy Yard)</span><br />\n<br />\n<span style="color:rgb(29\, 33\, 41)\; font-family:helvetica\,arial\,sans-serif">Paul Wong is Artistic Director (retired 2017) of Dieu Donn&eacute\; and a master papermaker/artist who has collaborated with artists such as Chuck Close\, Richard Tuttle\, Jim Hodges\, Ursula Von Rydingsvard\, Louise Bourgeois\, among many other major artists producing groundbreaking work in the creative papermaking medium for over 38 years. He has been awarded grants from the NEA\, NYFA and the Joan Mitchell Foundation. Wong has widely exhibited his work in paper\, books\, and installations since 1975 at museums and galleries including Neuberger Museum\, Plains Museum\, Columbia College Center for Book and Paper Arts\, and Dieu Donn&eacute\;. He has conducted papermaking lectures and workshops including: NY Library\, Haystack\, Penland\, Banff\, Oxbow\, PBI\, UArts-Philadelphia\, UA-Tuscaloosa\, Columbia College-Chicago\, Morgan Conservatory-Cleveland</span></span></strong>
LOCATION:Dutchess County Art Association/Barrett Art Center: 55 Noxon Street\, Poughkeepsie\, NY 12601
UID:e.2770.10479357
SEQUENCE:3
DTSTAMP:20260425T143239Z
URL:https://business.dcrcoc.org/events/details/pushing-paper-10479357
END:VEVENT

END:VCALENDAR
