BEGIN:VCALENDAR
VERSION:2.0
PRODID:-//ChamberMaster//Event Calendar 2.0//EN
METHOD:PUBLISH
X-PUBLISHED-TTL:P3D
REFRESH-INTERVAL:P3D
CALSCALE:GREGORIAN
BEGIN:VEVENT
DTSTART;VALUE=DATE:20180825
DTEND;VALUE=DATE:20180827
TRANSP:TRANSPARENT
X-MICROSOFT-CDO-ALLDAYEVENT:TRUE
SUMMARY:Putnam County Wine & Food Fest
DESCRIPTION:Get ready for the eighth annual Putnam County Wine & Food Fest   The most fun you will have all Summer long!\n\nEnjoy the best wine and spirits New York has to offer\, plus live music\, chef demonstrations\, and great food!  Sample wines\, spirits\, or ciders from some of New York's and beyond most renowned producers.  And\, if you like what you taste\, purchase by a bottle to go or buy a case to enjoy your favorites all year long. Bring a blanket and lawn chairs and enjoy savory foods while rocking to the rhythmic sounds of live music. There will be arts and crafts\, exhibits\, and two full days of live entertainment   even for kids. So\, bring the whole family and enjoy a day full of fun and entertainment!\n\nThe Festival is ideally located in the Hudson Valley region and a stone's throw away from Pawling\, Dutchess County\, NY\, New Fairfield and Danbury\, CT. \n\nTake Metro-North's Harlem Line to Patterson Station.  Check schedules at mta.info.mnr. Venue is within walking distance from the station. \n\nThis is an outdoor event and will be held rain or shine.  No Refunds.  Free Parking at the venue.\n\n So\, come out and enjoy some late summer fun for the entire family!\n\n For more information\, contact\, 800-557-4185\, ext. 3 and www.putnamcountywinefest.com.
X-ALT-DESC;FMTTYPE=text/html:<p style="text-align:justify"><strong><span style="font-family:helvetica\,sans-serif\; font-size:12pt">Get ready for the eighth annual Putnam County Wine &amp\; Food Fest &ndash\; The most fun you <span style="font-size:12px"><span style="font-family:tahoma">will have all Summer long!</span></span></span></strong></p>\n\n<p style="text-align:justify"><span style="font-family:times new roman"><span style="font-size:12px"><span style="color:black">Enjoy the best wine and spirits New York has to offer\, plus live music\, chef demonstrations\, and great food!&nbsp\; Sample wines\, spirits\, or ciders from some of New York&rsquo\;s and beyond most renowned producers.&nbsp\; And\, if you like what you taste\, purchase by a bottle to go or buy a case to enjoy your favorites all year long. Bring a blanket and lawn chairs and enjoy savory foods while rocking to the rhythmic sounds of live music. There will be arts and crafts\, exhibits\, and two full days of live&nbsp\;entertainment &ndash\; even for kids. So\, bring the whole family and enjoy a day full of fun and entertainment!</span></span></span></p>\n\n<p style="text-align:justify"><span style="font-size:12px"><span style="font-family:tahoma"><span style="color:rgb(13\, 13\, 13)">The Festival is ideally located in the Hudson Valley region and a stone&rsquo\;s throw away from Pawling\, Dutchess County\, NY\, New Fairfield and Danbury\, CT.</span><span style="color:black">&nbsp\;</span></span></span></p>\n\n<p style="text-align:justify"><span style="font-size:12px"><span style="font-family:tahoma"><span style="color:rgb(13\, 13\, 13)">Take Metro-North&rsquo\;s Harlem Line to Patterson Station.&nbsp\; Check schedules at mta.info.mnr. Venue is within walking distance from the station.</span><span style="color:black">&nbsp\;</span></span></span></p>\n\n<p style="text-align:justify"><span style="font-size:12px"><span style="font-family:tahoma"><span style="color:black">This is an outdoor event and will be held rain or shine.&nbsp\; No Refunds.&nbsp\; Free Parking at the venue.</span></span></span></p>\n\n<p><span style="font-size:12px"><span style="font-family:tahoma"><span style="color:black">&nbsp\;</span></span></span><span style="font-size:12px"><span style="font-family:tahoma"><span style="color:black">So\, come out and enjoy some late summer fun for the entire family!</span></span></span></p>\n\n<p style="text-align:justify"><u><span style="color:blue\; font-family:helvetica\,sans-serif\; font-size:12pt">&nbsp\;</span></u><span style="color:rgb(69\, 69\, 69)\; font-family:helvetica\,sans-serif\; font-size:12pt">For more information\, contact\, 800-557-4185\, ext. 3 and </span><a href="http://www.putnamcountywinefest.com/"><span style="font-family:helvetica\,sans-serif\; font-size:12pt">www.putnamcountywinefest.com</span></a><span style="font-family:helvetica\,sans-serif\; font-size:12pt"><u>.</u></span></p>\n
LOCATION:Patterson Fire Department (Grounds) 13 Burdick Road (off Route 311) Patterson\, NY 12563
UID:e.2770.10476631
SEQUENCE:3
DTSTAMP:20260425T144513Z
URL:https://business.dcrcoc.org/events/details/putnam-county-wine-food-fest-08-25-2018-10476631
END:VEVENT

END:VCALENDAR
