BEGIN:VCALENDAR
VERSION:2.0
PRODID:-//ChamberMaster//Event Calendar 2.0//EN
METHOD:PUBLISH
X-PUBLISHED-TTL:P3D
REFRESH-INTERVAL:P3D
CALSCALE:GREGORIAN
BEGIN:VEVENT
DTSTART:20210410T213000Z
DTEND:20210411T013000Z
X-MICROSOFT-CDO-ALLDAYEVENT:FALSE
SUMMARY:Puttin' On The Ritz With Glamour & Glitz - 2021 Gala
DESCRIPTION:***In Person Reservations are Sold Out*** \n\nTo be added to the waiting list\, please email: chelsea@dcrcoc.org\n\n_______________________________________________________________________________\n\n\n\nJoin the stars of the Hudson Valley in your finest attire and enjoy delicious cuisine\, decadent cocktails\, delightful company and celebrate some of the best leaders in local business.\n\n\n\nOur annual gala is a premier black-tie event\, featuring extended cocktail hour\, full three course dinner\, premium open bar\, music and a chance to win over $12\,000 in cash and prizes!\n\n\n\nRSVP by March 19\n\n__________________________________________________________________\n\n\n\n\n2021 GALA HONOREES\n\n\n\nLeadership Award\n\nGaye Mallet\n\nAdams Fairacre Farms\n\n\n\nCommunity Service Award\n\nWayne Nussbickel\n\nN & S Supply LLC\n\n\n\nGood Neighbor Award\n\nFrank Coluccio\n\n Legion Fireworks Co.\, Inc.\n\n \n\nNext Generation Award\n\n \n\nArnoff Moving & Storage\, Inc.\n\nCraig\, Dan and Nic Arnoff\n\n\n\n&\n\n\n\nCamp Hillcroft\n\nGreg and Sally Buttinger\n\n\n \n\n________________________________________________________________________________\n\n\n\nSponsors\n\n\n\nPlatinum\n\nKeybank\n\n\n\nDessert\n\nRhinebeck Bank\n\n\n\nGold\n\nDocuWare Corp.\n\nEastdale Village\n\nIntegrated Enterprise Solutions\, Inc.\n\nTompkins Mahopac Bank\n\nUlster Savings Bank\n\n\n\nCenterpiece\n\nArnoff Moving & Storage\, Inc.\n\nBlacktop Maintenance Corporation\n\nCentral Hudson Gas & Electric Corp.\n\nM & T Bank\n\nRose & Kiernan\, Inc./NFP\n\n\n\nGlamour\n\nMackey Butts & Wise\, LLP\n\nN & S Supply LLC\n\nTinkelman Architecture\n\n\n\nGlitz\n\nAdams Fairacre Farm\n\nJGS\, CPA\n\n\n\nPrize\n\nFoam and Wash Car Wash & Oil Change Plus\n\nMillbrook Vineyards & Winery\n\nS&O Construction Service\, Inc.\n\nZimmer Brothers\n\n\n\nEntertainment\n\nHudson Cadillac-Buick-GMC\n\nStenger\, Diamond & Glass - SDG Law\n\n\n\nVenue\n\nMarshall & Sterling Insurance\n\nRBT CPAs\, LLP\n\n\n\nSilver\n\nAtlasStar\, Ltd.\n\nCareMount Medical\, P.C.\n\nDCH Wappingers Falls Toyota\n\nHudson Valley Concierge Service\n\nRoyal Carting Service Company\n\n\n\nAward\n\nDe'S Jewelers
X-ALT-DESC;FMTTYPE=text/html:<div style="text-align: center\; text-transform: none\; text-indent: 0px\; letter-spacing: normal\; font-style: normal\; font-variant: normal\; font-weight: 400\; text-decoration: none\; word-spacing: 0px\; white-space: normal\; box-sizing: border-box\; orphans: 2\; background-color: transparent\; -webkit-text-stroke-width: 0px\;"><span style="font-size:20px\;"><span style="background:yellow\;"><span style="color:black\;"><span style="font-family:times new roman\,serif\;">***In Person Reservations are&nbsp\;<strong>Sold Out</strong>***&nbsp\;<br />\nTo be added to the waiting list\, please email: </span></span><strong><span style="font-family:times new roman\,serif\;"><a href="mailto:chelsea@dcrcoc.org"><span style="color:#0000FF\;">chelsea@dcrcoc.org</span></a></span></strong></span></span><br />\n<font color="#777777"><span style="font-size: 14px\;">_______________________________________________________________________________</span></font><br />\n<br />\n<span style="color: rgb(0\, 0\, 0)\; font-size: 16px\; font-family: verdana\, geneva\, sans-serif\; text-align: center\;">Join the stars of the Hudson Valley in your&nbsp\;finest attire&nbsp\;and&nbsp\;enjoy delicious&nbsp\;cuisine\, decadent&nbsp\;cocktails\, delightful&nbsp\;company and celebrate&nbsp\;some of the best leaders in local business.<br />\n<br />\nOur annual gala is a premier black-tie event\, featuring extended cocktail hour\, full three course dinner\, premium open bar\, music and a chance to win over $12\,000 in cash and prizes!</span><br />\n<br />\n<span style="color: rgb(119\, 119\, 119)\; font-size: 14px\; font-family: &quot\;times new roman&quot\;\;"><strong style="color: rgb(51\, 51\, 51)\; font-family: tahoma\; font-size: 16px\;"><span style="color: rgb(255\, 0\, 0)\;">RSVP by March 19</span></strong></span><br style="color: rgb(51\, 51\, 51)\; font-family: tahoma\; font-size: 16px\;" />\n<font color="#000000" face="tahoma"><span style="font-size: 16px\;">__________________________________________________________________</span></font></div>\n\n<div style="text-align: center\; text-transform: none\; text-indent: 0px\; letter-spacing: normal\; font-style: normal\; font-variant: normal\; text-decoration: none\; word-spacing: 0px\; white-space: normal\; box-sizing: border-box\; orphans: 2\; background-color: transparent\; -webkit-text-stroke-width: 0px\;">\n<div helvetica="" style="color: rgb(119\, 119\, 119)\; font-size: 14px\; font-weight: 400\; box-sizing: border-box\;"><br />\n<span style="color:#000000\;"><span style="font-size:18px\;"><span style="font-family:tahoma\;"><span book="" style="box-sizing: border-box\; font-family: "><span style="box-sizing: border-box\;"><em>2021 GALA HONOREES</em></span></span></span></span></span></div>\n\n<div helvetica="" style="color: rgb(119\, 119\, 119)\; font-size: 14px\; font-weight: 400\; box-sizing: border-box\;"><br />\n<span style="color:#000000\;"><span style="font-size:16px\;"><span style="font-family:tahoma\;"><span style="box-sizing: border-box\;"><strong style="box-sizing: border-box\; font-weight: bold\;"><span book="" style="box-sizing: border-box\; font-family: ">Leadership Award</span></strong></span></span></span></span><br />\n<font color="#000000" face="tahoma"><span style="font-size: 16px\;">Gaye Mallet</span></font></div>\n\n<div helvetica="" style="color: rgb(119\, 119\, 119)\; font-size: 14px\; font-weight: 400\; box-sizing: border-box\;"><span style="font-size:14px\;"><span style="font-family:tahoma\;"><span book="" style="box-sizing: border-box\; font-family: ">Adams Fairacre Farms</span></span></span></div>\n\n<div helvetica="" style="color: rgb(119\, 119\, 119)\; font-size: 14px\; font-weight: 400\; box-sizing: border-box\;"><br style="box-sizing: border-box\;" />\n<span style="color:#000000\;"><span style="font-size:16px\;"><span style="font-family:tahoma\;"><span book="" style="box-sizing: border-box\; font-family: "><span style="box-sizing: border-box\;"><strong style="box-sizing: border-box\; font-weight: bold\;"><span style="box-sizing: border-box\;">Community Service Award</span></strong></span></span></span></span></span></div>\n\n<div helvetica="" style="color: rgb(119\, 119\, 119)\; font-size: 14px\; font-weight: 400\; box-sizing: border-box\;"><span style="color:#000000\;"><span style="font-size:16px\;"><span style="font-family:tahoma\;"><span book="" style="box-sizing: border-box\; font-family: ">Wayne Nussbickel</span></span></span></span><br />\n<span style="font-size:14px\;"><span style="font-family:tahoma\;">N &amp\; S Supply LLC</span></span></div>\n\n<div helvetica="" style="color: rgb(119\, 119\, 119)\; font-size: 14px\; font-weight: 400\; box-sizing: border-box\;"><br style="box-sizing: border-box\;" />\n<span style="color:#000000\;"><span style="font-size:16px\;"><span style="font-family:tahoma\;"><span book="" style="box-sizing: border-box\; font-family: "><span style="box-sizing: border-box\;"><strong style="box-sizing: border-box\; font-weight: bold\;"><span style="box-sizing: border-box\;">Good Neighbor Award</span></strong></span></span></span></span></span><br />\n<span style="font-size:16px\;"><span style="font-family:tahoma\;"><span style="color:#000000\;">Frank Coluccio</span></span></span></div>\n\n<div helvetica="" style="color: rgb(119\, 119\, 119)\; font-size: 14px\; font-weight: 400\; box-sizing: border-box\;"><span style="font-size:14px\;"><span style="font-family:tahoma\;">&nbsp\;Legion Fireworks Co.\, Inc.</span></span></div>\n\n<div helvetica="" style="color: rgb(119\, 119\, 119)\; font-size: 14px\; font-weight: 400\; box-sizing: border-box\;"><span style="font-size:16px\;"><span style="font-family:tahoma\;"><span book="" style="box-sizing: border-box\; font-family: ">&nbsp\;</span></span></span></div>\n\n<div helvetica="" style="color: rgb(119\, 119\, 119)\; font-size: 14px\; font-weight: 400\; box-sizing: border-box\;"><span style="color:#000000\;"><span style="font-size:16px\;"><span style="font-family:tahoma\;"><span style="box-sizing: border-box\;"><strong style="box-sizing: border-box\; font-weight: bold\;"><span book="" style="box-sizing: border-box\; font-family: ">Next Generation Award</span></strong></span></span></span></span><br />\n&nbsp\;</div>\n\n<div helvetica="" style="color: rgb(119\, 119\, 119)\; font-size: 14px\; font-weight: 400\; box-sizing: border-box\;"><span style="font-size:16px\;"><span style="color:#000000\;"><span style="font-family:tahoma\;">Arnoff Moving &amp\; Storage\, Inc.</span></span></span></div>\n\n<div helvetica="" style="color: rgb(119\, 119\, 119)\; font-size: 14px\; font-weight: 400\; box-sizing: border-box\;"><span style="font-size:16px\;"><span style="font-family:tahoma\;"><span book="" style="box-sizing: border-box\; font-family: ">Craig\, Dan and Nic Arnoff</span></span></span></div>\n\n<div helvetica="" style="box-sizing: border-box\;"><br />\n<span style="color: rgb(0\, 0\, 0)\; font-size: 14px\; font-weight: 400\;"><strong><span style="font-size:18px\;">&amp\;</span></strong></span><br />\n<br style="box-sizing: border-box\;" />\n<font color="#000000" face="tahoma"><span style="font-size: 16px\;">Camp Hillcroft</span></font></div>\n\n<div helvetica="" style="color: rgb(119\, 119\, 119)\; font-size: 14px\; font-weight: 400\; box-sizing: border-box\;"><span style="color: rgb(119\, 119\, 119)\; font-family: tahoma\; font-size: 16px\; text-align: center\;">Greg and Sally Buttinger</span></div>\n</div>\n\n<div>&nbsp\;</div>\n\n<div style="text-align: center\;">________________________________________________________________________________<br />\n<br />\n<span style="font-size:16px\;"><span style="font-family:tahoma\;"><span style="color: rgb(0\, 0\, 0)\;"><strong><span style="font-size:18px\;"><u>Sponsors</u></span><br />\n<br />\nPlatinum</strong></span></span></span><br />\n<a href="http://www.keybank.com" style="font-family: tahoma\; font-size: 16px\; text-align: center\;" target="_blank"><span style="color:#0000FF\;">Keybank</span></a><br />\n<br />\n<span style="font-size:16px\;"><span style="font-family:tahoma\;"><span style="color: rgb(0\, 0\, 0)\;"><strong>Dessert</strong></span></span></span><br />\n<a href="http://www.rhinebeckbank.com" style="text-align: center\; font-family: tahoma\; font-size: 16px\;" target="_blank"><span style="color:#0000FF\;"><font face="tahoma"><span style="font-size: 16px\;">Rhinebeck Bank</span></font></span></a><br />\n<br />\n<strong><span style="font-family:tahoma\;"><span style="font-size:16px\;">Gold</span></span></strong><br />\n<span style="font-family: tahoma\; font-size: 16px\; text-align: center\;"><a href="http://start.docuware.com/" target="_blank"><span style="color:#0000FF\;">DocuWare Corp</span></a></span><a href="http://start.docuware.com/" target="_blank"><span style="color:#0000FF\;"><span style="font-family: tahoma\; font-size: 16px\; text-align: center\;">.</span></span></a><br />\n<span style="text-align: center\; font-family: tahoma\; font-size: 16px\;"><a href="https://www.eastdalevillage.com/" target="_blank"><span style="color:#0000FF\;">Eastdale Village</span></a></span><br />\n<a href="http://www.ies-ny.com" style="text-align: center\; font-family: tahoma\; font-size: 16px\;" target="_blank"><span style="color:#0000FF\;">Integrated Enterprise Solutions\, Inc.</span></a><br />\n<a href="https://www.mahopacbank.com/" style="text-align: center\; font-family: tahoma\; font-size: 16px\;" target="_blank"><span style="color:#0000FF\;">Tompkins Mahopac Bank</span></a><br />\n<span style="font-size:16px\;"><span style="font-family:tahoma\;"><a href="https://www.ulstersavings.com/" target="_blank"><span style="color:#0000FF\;">Ulster Savings Bank</span></a></span></span><br />\n<br />\n<strong><span style="font-family:tahoma\;"><span style="font-size:16px\;">Centerpiece</span></span></strong><br />\n<font face="tahoma"><span style="font-size: 16px\;"><a href="https://www.arnoff.com/" target="_blank"><span style="color:#0000FF\;">Arnoff Moving &amp\; Storage\, Inc.</span></a></span></font><br />\n<a href="https://blacktopmaintenance.com/" target="_blank"><span style="color:#0000FF\;"><font face="tahoma"><span style="font-size: 16px\;">Blacktop Maintenance Corporation</span></font></span></a><br />\n<a href="http://www.cenhud.com" target="_blank"><span style="color:#0000FF\;"><font face="tahoma"><span style="font-size: 16px\;">Central Hudson Gas &amp\; Electric Corp.</span></font></span></a><br />\n<a href="http://www.mtb.com" style="text-align: center\;" target="_blank"><span style="color: rgb(0\, 0\, 255)\;"><span style="font-family: tahoma\;"><span style="font-size: 16px\;">M &amp\; T Bank</span></span></span></a><br />\n<a href="http://www.rkinsurance.com/" style="text-align: center\;" target="_blank"><span style="color: rgb(0\, 0\, 255)\;"><span style="font-size: 16px\;"><span style="font-family: tahoma\;">Rose &amp\; Kiernan\, Inc./NFP</span></span></span></a><br />\n<br />\n<strong style="text-align: center\;"><span style="font-family: tahoma\;"><span style="font-size: 16px\;">Glamour</span></span></strong><br />\n<span style="text-align: center\; font-family: tahoma\; font-size: 16px\;"><a href="http://www.mbwise.com" target="_blank"><span style="color:#0000FF\;">Mackey Butts &amp\; Wise\, LLP</span></a></span><br />\n<span style="text-align: center\;"><span style="font-size: 16px\;"><span style="font-family: tahoma\;"><a href="http://www.nssupply.com" style="text-align: center\;" target="_blank"><span style="color:#0000FF\;">N &amp\; S Supply LLC</span></a></span></span></span><br />\n<span style="text-align: center\;"><span style="font-size: 16px\;"><span style="font-family: tahoma\;"><a href="https://www.tinkarch.com/" target="_blank"><span style="color:#0000FF\;">Tinkelman Architecture</span></a></span></span></span><br />\n<br />\n<strong style="text-align: center\;"><span style="font-family: tahoma\;"><span style="font-size: 16px\;">Glitz</span></span></strong><br />\n<span style="text-align: center\; font-family: tahoma\; font-size: 16px\;"><a href="http://www.adamsfarms.com" style="text-align: center\; font-family: tahoma\; font-size: 16px\;" target="_blank"><span style="color:#0000FF\;">Adams Fairacre Farm</span></a></span><br />\n<span style="text-align: center\; font-family: tahoma\; font-size: 16px\;"><a href="http://www.jgspc.com" target="_blank"><span style="color:#0000FF\;">JGS\, CPA</span></a></span><br />\n<br />\n<strong style="text-align: center\;"><span style="font-family: tahoma\;"><span style="font-size: 16px\;">Prize</span></span></strong><br />\n<a href="https://foamandwash.com/" target="_blank"><span style="color:#0000CD\;"><span style="font-family: tahoma\; font-size: 16px\; text-align: center\;">Foam and&nbsp\;Wash Car Wash &amp\; Oil Change Plus</span></span></a><br />\n<span style="font-family: tahoma\; font-size: 16px\; text-align: center\;"><a href="https://www.millbrookwine.com/" target="_blank"><span style="color:#0000FF\;">Millbrook Vineyards &amp\; Winery</span></a></span><br />\n<span style="font-size:16px\;"><span style="font-family:tahoma\;"><a href="http://soconserv.com/" target="_blank"><span style="color:#0000FF\;">S&amp\;O Construction Service\, Inc.</span></a><br />\n<a href="https://www.zimmerbrothers.com/" target="_blank"><span style="color:#0000FF\;">Zimmer Brothers</span></a></span></span><br />\n<br />\n<strong style="text-align: center\;"><span style="font-family: tahoma\;"><span style="font-size: 16px\;">Entertainment</span></span></strong><br />\n<span style="text-align: center\; font-family: tahoma\; font-size: 16px\;"><a href="http://www.hudsongm.com" style="text-align: center\; font-family: tahoma\; font-size: 16px\;" target="_blank"><span style="color:#0000FF\;">Hudson Cadillac-Buick-GMC</span></a></span><br />\n<span style="text-align: center\; font-family: tahoma\; font-size: 16px\;"><a href="https://sdglaw.com/" target="_blank"><span style="color:#0000FF\;">Stenger\, Diamond &amp\; Glass - SDG Law</span></a></span><br />\n<br />\n<strong style="text-align: center\;"><span style="font-family: tahoma\;"><span style="font-size: 16px\;">Venue</span></span></strong><br />\n<span style="text-align: center\; font-size: 16px\;"><span style="font-family: tahoma\;"><a href="https://www.marshallsterling.com/" target="_blank"><span style="color: rgb(0\, 0\, 255)\;">Marshall &amp\; Sterling Insurance</span></a></span></span><br style="text-align: center\;" />\n<a href="http://www.rbtcpas.com/" style="text-align: center\;" target="_blank"><span style="color: rgb(0\, 0\, 255)\;"><span style="font-family: tahoma\;"><span style="font-size: 16px\;">RBT CPAs\, LLP</span></span></span></a><br />\n<br />\n<strong><span style="font-family:tahoma\;"><span style="font-size:16px\;">Silver</span></span></strong><br />\n<a href="https://www.atlastar.com/" target="_blank"><span style="color:#0000FF\;"><span style="font-size:16px\;"><span style="font-family:tahoma\;">AtlasStar\, Ltd.</span></span></span></a><br />\n<a href="http://www.caremountmedical.com/locations" style="text-align: center\; font-family: tahoma\; font-size: 16px\;" target="_blank"><span style="color:#0000FF\;">CareMount Medical\, P.C.</span></a><br />\n<a href="http://www.dchwappingerstoyota.com" style="text-align: center\; font-family: tahoma\; font-size: 16px\;" target="_blank"><span style="color:#0000FF\;">DCH Wappingers Falls Toyota</span></a><br />\n<a href="https://hvconcierge.com/" target="_blank"><span style="color:#0000FF\;"><span style="font-family:tahoma\;"><span style="font-size:12.0pt\;">Hudson Valley Concierge Service</span></span></span></a><br />\n<a href="http://www.royalcarting.com" style="text-align: center\; font-family: tahoma\; font-size: 16px\;" target="_blank"><span style="color:#0000FF\;">Royal Carting Service Company</span></a><br />\n<br />\n<strong style="text-align: center\;"><span style="font-family: tahoma\;"><span style="font-size: 16px\;">Award</span></span></strong><br style="text-align: center\;" />\n<a href="http://www.desjewelers.com" style="text-align: center\; font-family: tahoma\; font-size: 16px\;" target="_blank"><span style="color: rgb(0\, 0\, 255)\;">De&#39\;S Jewelers</span></a></div>\n
LOCATION:The Poughkeepsie Grand Hotel 40 Civic Center Plaza Poughkeepsie & Revel 32 32 Cannon Street Poughkeepsie
UID:e.2770.10484983
SEQUENCE:3
DTSTAMP:20260421T125820Z
URL:https://business.dcrcoc.org/events/details/puttin-on-the-ritz-with-glamour-glitz-2021-gala-10484983
END:VEVENT

END:VCALENDAR
