BEGIN:VCALENDAR
VERSION:2.0
PRODID:-//ChamberMaster//Event Calendar 2.0//EN
METHOD:PUBLISH
X-PUBLISHED-TTL:P3D
REFRESH-INTERVAL:P3D
CALSCALE:GREGORIAN
BEGIN:VEVENT
DTSTART:20171209T140000Z
DTEND:20171209T210000Z
X-MICROSOFT-CDO-ALLDAYEVENT:FALSE
SUMMARY:QuickBooks Online (QBO) Essentials
DESCRIPTION:This is a hands-on class in QuickBooks Online (QBO) Software.  You will need to bring a laptop with WiFi capability.  All attendees will work on a sample company.\n\nThe Top 5 Reasons You Should Attend:\n\n\n	Learn how to use QuickBooks Online Software to enhance your business decision\n	Learn the strategic WHY of each feature of this under-utilized program\n	Understand more than just the checkbook register feature of QuickBooks Online Software\n	Use the reports that can empower your business decisions\n	Become more PROFITABLE\n\n\nWith an 80%+ market share\, QuickBooks is the #1 tool of choice among small business owners. Your improved ability and knowledge in using QuickBooks empowers you as a business owner and puts you ahead of your competition.\n\nIn this QuickBooks Online Software course\, you will learn:\n\n\n	Navigation and Menus\n	Managing your Customers/Clients and Sales\n	Managing your Vendors and Payables\n	Preparing and Planning for Taxes\n	Managing Bank Accounts\n\n\n"Got an understanding of how recording information in QuickBooks impacts reports and management of your business."\,  2/13/16 WEDC Workshop participant\n\nOur speaker Ken Mann is a specially trained QuickBooks expert\, helping businesses customize QuickBooks for their unique needs and helping them get the most out of the software\n\nAttend this valuable workshop is only $29.95!  To register click HERE.  Space is limited to 13 people.  Fee is refundable with at least 48 hour notice of cancellation. No shows no refund.
X-ALT-DESC;FMTTYPE=text/html:<h3><span style="color:#ff0000"><strong>This is a hands-on class in QuickBooks Online (QBO) Software.&nbsp\; You will need to bring a laptop with WiFi capability.&nbsp\; All attendees will work on a sample company.</strong></span></h3>\n\n<p><strong>The Top 5 Reasons You Should Attend:</strong></p>\n\n<ul>\n	<li>Learn how to use QuickBooks Online Software to enhance your business decision</li>\n	<li>Learn the strategic WHY of each feature of this under-utilized program</li>\n	<li>Understand more than just the checkbook register feature of QuickBooks Online Software</li>\n	<li>Use the reports that can empower your business decisions</li>\n	<li>Become more PROFITABLE</li>\n</ul>\n\n<p>With an 80%+ market share\, QuickBooks is the #1 tool of choice among small business owners.&nbsp\;Your improved ability and knowledge in using QuickBooks empowers you&nbsp\;as a business owner and puts you ahead of your competition.</p>\n\n<p><strong>In this QuickBooks Online Software course\, you will learn:</strong></p>\n\n<ul>\n	<li>Navigation&nbsp\;and&nbsp\;Menus</li>\n	<li>Managing your&nbsp\;Customers/Clients&nbsp\;and&nbsp\;Sales</li>\n	<li>Managing your&nbsp\;Vendors&nbsp\;and&nbsp\;Payables</li>\n	<li>Preparing&nbsp\;and&nbsp\;Planning&nbsp\;for&nbsp\;Taxes</li>\n	<li>Managing&nbsp\;Bank&nbsp\;Accounts</li>\n</ul>\n\n<p><strong><em>&ldquo\;Got an understanding of how recording information in QuickBooks impacts reports and management of your business.&rdquo\;\,&nbsp\; 2/13/16 WEDC Workshop participant</em></strong></p>\n\n<p>Our speaker Ken Mann is a specially trained QuickBooks expert\, helping businesses customize QuickBooks for their unique needs and helping them get the most out of the software</p>\n\n<p><strong>Attend this valuable workshop is only $29.95!&nbsp\; To register click <a href="http://events.constantcontact.com/register/event?llr=dhf5cybab&amp\;oeidk=a07ee6cpimh49132365">HERE</a>.&nbsp\; Space is limited to 13 people.&nbsp\; <span style="color:#ff0000"><em>Fee is refundable with at least 48 hour notice of cancellation. No shows no refund.</em></span></strong></p>\n
LOCATION:Th!nk Dutchess Alliance For Business 3 Neptune Road Suite A21\, Separate Entrance with awning. Poughkeepsie\, NY 12601
UID:e.2770.10475789
SEQUENCE:3
DTSTAMP:20260426T004954Z
URL:https://business.dcrcoc.org/events/details/quickbooks-online-qbo-essentials-12-09-2017-10475789
END:VEVENT

END:VCALENDAR
