BEGIN:VCALENDAR
VERSION:2.0
PRODID:-//ChamberMaster//Event Calendar 2.0//EN
METHOD:PUBLISH
X-PUBLISHED-TTL:P3D
REFRESH-INTERVAL:P3D
CALSCALE:GREGORIAN
BEGIN:VEVENT
DTSTART:20210511T160000Z
DTEND:20210511T170000Z
X-MICROSOFT-CDO-ALLDAYEVENT:FALSE
SUMMARY:Reach Customers Online with Google
DESCRIPTION:Join WEDC and Grow with Google speaker\, Petia Abdur- Razzaaq\, to learn how your business can be found online with Google.  This workshop explains how Google Search works and how you can improve a website's visibility with Search Engine Optimization (SEO).  The session also introduces products like Google My Business\, Google Trends\, Search Console\, Google Analytics\, Google Ads\, and more.\n\nIn this workshop we'll discuss best practices for:\n\n  Improving your website's visibility in Google's organic search results\, on all devices\n\n  Creating a free Google My Business listing\n\n  Advertising your business on Google
X-ALT-DESC;FMTTYPE=text/html:<p><span style="font-size:16px"><span style="color:rgb(77\, 77\, 78)">Join WEDC and&nbsp\;<em>Grow with Google</em>&nbsp\;speaker\, Petia Abdur- Razzaaq\, to learn how your business can be found online with Google.&nbsp\; This workshop explains how Google Search works and how you can improve a website&rsquo\;s visibility with Search Engine Optimization (SEO).&nbsp\; The session also introduces products like Google My Business\, Google Trends\, Search Console\, Google Analytics\, Google Ads\, and more.</span></span></p>\n\n<p><span style="font-size:16px"><span style="color:rgb(77\, 77\, 78)"><strong>In this workshop we&rsquo\;ll discuss best practices for:</strong></span><br />\n<span style="color:rgb(77\, 77\, 78)">&bull\; Improving your website&rsquo\;s visibility in Google&rsquo\;s organic search results\, on all devices</span><br />\n<span style="color:rgb(77\, 77\, 78)">&bull\; Creating a free Google My Business listing</span><br />\n<span style="color:rgb(77\, 77\, 78)">&bull\; Advertising your business on Google</span></span></p>\n
LOCATION:Online
UID:e.2770.10485043
SEQUENCE:3
DTSTAMP:20260421T111929Z
URL:https://business.dcrcoc.org/events/details/reach-customers-online-with-google-10485043
END:VEVENT

END:VCALENDAR
