BEGIN:VCALENDAR
VERSION:2.0
PRODID:-//ChamberMaster//Event Calendar 2.0//EN
METHOD:PUBLISH
X-PUBLISHED-TTL:P3D
REFRESH-INTERVAL:P3D
CALSCALE:GREGORIAN
BEGIN:VEVENT
DTSTART:20200617T170000Z
DTEND:20200617T180000Z
X-MICROSOFT-CDO-ALLDAYEVENT:FALSE
SUMMARY:Ready or Not? Preparing for the Unexpected Webinar presented by John Leigh of Edward Jones
DESCRIPTION:Ready or Not? Preparing for the Unexpected shares tips on how to develop a proactive strategy for protection and preparing for the unexpected. The presentation discusses planning for the expected\, preparing for the unexpected and positioning your portfolio for both expected and unexpected life changes.
X-ALT-DESC;FMTTYPE=text/html:Ready or Not? Preparing for the Unexpected shares tips on how to develop a proactive strategy for protection and preparing for the unexpected. The presentation discusses planning for the expected\, preparing for the unexpected and positioning your portfolio for both expected and unexpected life changes.
LOCATION:Zoom Webinar
UID:e.2770.10483302
SEQUENCE:3
DTSTAMP:20260422T045227Z
URL:https://business.dcrcoc.org/events/details/ready-or-not-preparing-for-the-unexpected-webinar-presented-by-john-leigh-of-edward-jones-10483302
END:VEVENT

END:VCALENDAR
