BEGIN:VCALENDAR
VERSION:2.0
PRODID:-//ChamberMaster//Event Calendar 2.0//EN
METHOD:PUBLISH
X-PUBLISHED-TTL:P3D
REFRESH-INTERVAL:P3D
CALSCALE:GREGORIAN
BEGIN:VEVENT
DTSTART:20190513T220000Z
DTEND:20190514T010000Z
X-MICROSOFT-CDO-ALLDAYEVENT:FALSE
SUMMARY:Ready to Get Your Product into Chain Stores and the International Market?
DESCRIPTION:Interested in distributing your product to chain stores or conduct business overseas?\n\nJoin Us!\n\n\n\nTopics: \n\n\n	\n	What is white-labeling\, private labeling and wholesale distribution?\n	\n	\n	Are you really ready for business growth?  Financial stability?\n	\n	\n	Benefits & cost impact of growth on your organization\n	\n	\n	Value proposition for buyers\n	\n	\n	Talk the Talk: Industry terminology you must know\n	\n	\n	Managing your fulfillment process\n	\n	\n	Supply chain planning\n	\n\n\n*Must already have an operating business and be ready for growth.
X-ALT-DESC;FMTTYPE=text/html:<p><span style="font-size: 16px\;">Interested in distributing your product to chain stores or conduct business overseas?<br />\nJoin Us!<br />\n<br />\n<u><strong>Topics:&nbsp\;</strong></u></span></p>\n\n<ul>\n	<li>\n	<p><span style="font-size: 16px\;">What is white-labeling\, private labeling and wholesale distribution?</span></p>\n	</li>\n	<li>\n	<p><span style="font-size: 16px\;">Are you really ready for business growth?&nbsp\; Financial stability?</span></p>\n	</li>\n	<li>\n	<p><span style="font-size: 16px\;">Benefits &amp\; cost impact of growth on your organization</span></p>\n	</li>\n	<li>\n	<p><span style="font-size: 16px\;">Value proposition for buyers</span></p>\n	</li>\n	<li>\n	<p><span style="font-size: 16px\;">Talk the Talk: Industry terminology you must know</span></p>\n	</li>\n	<li>\n	<p><span style="font-size: 16px\;">Managing your fulfillment process</span></p>\n	</li>\n	<li>\n	<p><span style="font-size: 16px\;">Supply chain planning</span></p>\n	</li>\n</ul>\n\n<p><em><span style="font-size: 16px\;">*Must already have an operating business and be ready for growth.</span></em></p>\n
LOCATION:The Accelerator 4 Crotty Lane\, Suite 100 (Formerly London Ave.) New Windsor\, NY 12553
UID:e.2770.10480522
SEQUENCE:3
DTSTAMP:20260423T045821Z
URL:https://business.dcrcoc.org/events/details/ready-to-get-your-product-into-chain-stores-and-the-international-market-10480522
END:VEVENT

END:VCALENDAR
