BEGIN:VCALENDAR
VERSION:2.0
PRODID:-//ChamberMaster//Event Calendar 2.0//EN
METHOD:PUBLISH
X-PUBLISHED-TTL:P3D
REFRESH-INTERVAL:P3D
CALSCALE:GREGORIAN
BEGIN:VEVENT
DTSTART;VALUE=DATE:20201001
DTEND;VALUE=DATE:20201101
TRANSP:TRANSPARENT
X-MICROSOFT-CDO-ALLDAYEVENT:TRUE
SUMMARY:Real Men Wear Pink
DESCRIPTION:The Real Men Wear Pink (RMWP) campaign\, a feature of the American Cancer Society\, continues to raise awareness and funding for breast cancer research this October. Help support the Hudson Valley chapter with a donation of any size to a local RMWP candidate. This year\, Michael Garofalo\, Chamber ambassador and JGS\, CPA employee\, will wear pink throughout October to honor the cause and raise money. To make a donation\, visit http://main.acsevents.org/goto/MichaelGarofalo
X-ALT-DESC;FMTTYPE=text/html:The Real Men Wear Pink (RMWP) campaign\, a feature of the American Cancer Society\, continues to raise awareness and funding for breast cancer research this October. Help support the Hudson Valley chapter with a donation of any size to a local RMWP candidate. This year\, Michael Garofalo\, Chamber ambassador and JGS\, CPA employee\, will wear pink throughout October to honor the cause and raise money. To make a donation\, visit http://main.acsevents.org/goto/MichaelGarofalo
LOCATION:
UID:e.2770.10484447
SEQUENCE:3
DTSTAMP:20260421T223313Z
URL:https://business.dcrcoc.org/events/details/real-men-wear-pink-10484447
END:VEVENT

END:VCALENDAR
