BEGIN:VCALENDAR
VERSION:2.0
PRODID:-//ChamberMaster//Event Calendar 2.0//EN
METHOD:PUBLISH
X-PUBLISHED-TTL:P3D
REFRESH-INTERVAL:P3D
CALSCALE:GREGORIAN
BEGIN:VEVENT
DTSTART:20171020T233000Z
DTEND:20171021T003000Z
X-MICROSOFT-CDO-ALLDAYEVENT:FALSE
SUMMARY:Reality Check Duo opens at The Alley Kat!
DESCRIPTION:Reality Check Duo plays our open set on Friday night - getting the crowd warmed up for Full Throttle! Show up and have a cold one while enjoying this amazing band!\n\n\n\nCheck out the event details on our Facebook page:\n\nReality Check Duo opens at The Alley Kat!
X-ALT-DESC;FMTTYPE=text/html:<span style="color:rgb(75\, 79\, 86)\; font-family:sf optimized\,system-ui\,-apple-system\,blinkmacsystemfont\,.sfnstext-regular\,sans-serif\; font-size:14px">Reality Check Duo plays our open set on Friday night - getting the crowd warmed up for Full Throttle! Show up and have a cold one while enjoying this amazing band!</span><br />\n<br />\nCheck out the event details on our Facebook page:<br />\n<a href="https://www.facebook.com/events/769276373274777/?acontext=%7B%22ref%22%3A%223%22%2C%22ref_newsfeed_story_type%22%3A%22regular%22%2C%22feed_story_type%22%3A%22117%22%2C%22action_history%22%3A%22null%22%7D">Reality Check Duo opens at The Alley Kat!</a>\n<h1>&nbsp\;</h1>\n
LOCATION:The Alley Kat 1677 US 9 Wappingers Falls\, New York\, NY 12590
UID:e.2770.10476372
SEQUENCE:3
DTSTAMP:20260426T033323Z
URL:https://business.dcrcoc.org/events/details/reality-check-duo-opens-at-the-alley-kat-10476372
END:VEVENT

END:VCALENDAR
