BEGIN:VCALENDAR
VERSION:2.0
PRODID:-//ChamberMaster//Event Calendar 2.0//EN
METHOD:PUBLISH
X-PUBLISHED-TTL:P3D
REFRESH-INTERVAL:P3D
CALSCALE:GREGORIAN
BEGIN:VEVENT
DTSTART:20200623T140000Z
DTEND:20200623T220000Z
X-MICROSOFT-CDO-ALLDAYEVENT:FALSE
SUMMARY:Recognizing and Reporting Child Abuse
DESCRIPTION:Have you ever thought..."Something just doesn't feel right" when you see a situation involving a child but just didn't know what to do?\n\nThe CPCA is hosting presentations in June 2020 on "Recognizing and Reporting Child Abuse" to help the community know the signs a child might need help\, what to do\, and how you are protected if you need to call in a report.\n\nThis event is free to the public so please sign up to learn how you can be a hero for kids!\n\n\n\nUse this link to register today!
X-ALT-DESC;FMTTYPE=text/html:<p>Have you ever thought...&quot\;Something just doesn&#39\;t feel right&quot\; when you see a situation involving a child but just didn&#39\;t know what to do?</p>\n\n<p>The CPCA is hosting presentations in June 2020 on &quot\;Recognizing and Reporting Child Abuse&quot\; to help the community know the signs a child might need help\, what to do\, and how you are protected if you need to call in a report.</p>\n\n<p>This event is free to the public so please sign up to learn how you can be a hero for kids!<br />\n<br />\nUse this <a href="https://keepingchildrensafe-cpca.eventbrite.com">link </a>to register today!&nbsp\;</p>\n
LOCATION:Virtual
UID:e.2770.10483317
SEQUENCE:3
DTSTAMP:20260422T044858Z
URL:https://business.dcrcoc.org/events/details/recognizing-and-reporting-child-abuse-06-23-2020-10483317
END:VEVENT

END:VCALENDAR
