BEGIN:VCALENDAR
VERSION:2.0
PRODID:-//ChamberMaster//Event Calendar 2.0//EN
METHOD:PUBLISH
X-PUBLISHED-TTL:P3D
REFRESH-INTERVAL:P3D
CALSCALE:GREGORIAN
BEGIN:VEVENT
DTSTART;VALUE=DATE:20190413
DTEND;VALUE=DATE:20190414
TRANSP:TRANSPARENT
X-MICROSOFT-CDO-ALLDAYEVENT:TRUE
SUMMARY:Record Store Day
DESCRIPTION:Record Store Day is Saturday\, April 13 at Darkside Records in Poughkeepsie\, New York\, where we celebrate everything we love about record stores. We will of course have the exclusive RSD titles\, as well as giveaways\, live music\, food\, performers\, a charity fundraiser\, and more!\n\n\n\nRSVP here:https://www.facebook.com/events/2196237070594605/?\n\n\n\n-EXCLUSIVE RELEASES-\n\nAs always\, We will open at 9am RSD is first come first serve\, and we will post our menu of everything we will have in stock right here LATEST the night before. See the complete list at recordstoreday.com now!\n\n\n\n-FOOD & DRINK-\n\nComing early? Enjoy free coffee in the morning courtesy of The Poughkeepsie Grind! There will be food TBA! Get ice cream from Ben & Jerry's! We'll be serving up some delicious local beers- and Half Time Beverages will be on-site again with samples of the Dogfish Head #RSD19 brew\, the fan-favorite re-released Grateful Dead 'American Beauty' pale ale (Plus they're also bringing back 'Dragons & YumYums' the 2018 collaboration with The Flaming Lips that we hope to have onsite!)\n\n\n\n-FUN-\n\nWin prizes from 92.7 & 96.9 WRRV\, meet the Hudson Valley Horrors roller derby athletes (and get info their programs)\, and more to be announced! \n\n\n\n-LIVE MUSIC-\n\nHear great live music all day long\, featuring a special intimate performance from Y La Bamba\, whose new album 'Mujeres' is out now and will be performing later that night at BSP Kingston (get tix in-store at darkside)! There will also be a set from NYC prog band Valence\, whose new album 'Cognitive Dissident' comes out 4/12. There will also be sets from awesome local performers A Low Glow Ire Dawn - ALGID\, Arizona Lindsey\, Wall Of Ego\, Mike Hamel\, Freedom Class\, Timber Beast\, and Ciarra Fragale! \n\n\n\nIn the meantime you can see our complete Record Store Day guidelines & details on our site at http://bit.ly/dsrsd\n\n\n\nRecord Store Day was conceived in 2007 at a gathering of independent record store owners and employees as a way to celebrate and spread the word about the unique culture surrounding nearly 1400 independently owned record stores in the US and thousands of similar stores internationally. Get more information on the organization at recordstoreday.com!\n\n\n\nSee you then!
X-ALT-DESC;FMTTYPE=text/html:<a href="https://www.facebook.com/pages/Record-Store-Day/107974209222606" style="color: rgb(54\, 88\, 153)\; font-family: system-ui\, -apple-system\, system-ui\, &quot\;.SFNSText-Regular&quot\;\, sans-serif\; font-size: 14px\; white-space: pre-wrap\; cursor: pointer\; text-decoration-line: none\;" target="_blank">Record Store Day</a><span style="color: rgb(29\, 33\, 41)\; font-size: 14px\;"> is Saturday\, April 13 at </span><a href="https://www.facebook.com/darksiderecordspk/" style="color: rgb(54\, 88\, 153)\; font-family: system-ui\, -apple-system\, system-ui\, &quot\;.SFNSText-Regular&quot\;\, sans-serif\; font-size: 14px\; white-space: pre-wrap\; cursor: pointer\; text-decoration-line: none\;" target="_blank">Darkside Records</a><span style="color: rgb(29\, 33\, 41)\; font-size: 14px\;"> in </span><a href="https://www.facebook.com/pages/Poughkeepsie-New-York/109384999087779" style="color: rgb(54\, 88\, 153)\; font-family: system-ui\, -apple-system\, system-ui\, &quot\;.SFNSText-Regular&quot\;\, sans-serif\; font-size: 14px\; white-space: pre-wrap\; cursor: pointer\; text-decoration-line: none\;" target="_blank">Poughkeepsie\, New York</a><span style="color: rgb(29\, 33\, 41)\; font-size: 14px\;">\, where we celebrate everything we love about record stores. We will of course have the exclusive RSD titles\, as well as giveaways\, live music\, food\, performers\, a charity fundraiser\, and more!<br />\n<br />\n<strong>RSVP here:</strong></span><strong><a href="https://www.facebook.com/events/2196237070594605/?">https://www.facebook.com/events/2196237070594605/?</a></strong><br />\n<br />\n<strong><span style="color: rgb(29\, 33\, 41)\; font-size: 14px\;">-EXCLUSIVE RELEASES-</span></strong><br />\n<span style="color: rgb(29\, 33\, 41)\; font-size: 14px\;">As always\, We will open at 9am RSD is first come first serve\, and we will post our menu of everything we will have in stock right here LATEST the night before. See the complete list at </span><a href="https://l.facebook.com/l.php?u=http%3A%2F%2Frecordstoreday.com%2F%3Ffbclid%3DIwAR0s5ZWTLxaSjXPae2XmMbTSqOT8LXRlceS0Mqtz65DfBt-BHATsuzuUXHI&amp\;h=AT2sJ4BSnJPgRnm4TdpryjaLzZv3IRfAcdZ_ii2Z970bXjLcLkU_xIUhqjMknuPZU7b6L5en_lXtT0EFRxtMn3Q8hF6Jux7wh-_ZU_wGGWGuAAZw1Tg9gvIKJmMWEg1LVErjzKCg2skWcqkAF1O1WDs" rel="nofollow noopener" style="color: rgb(54\, 88\, 153)\; font-family: system-ui\, -apple-system\, system-ui\, &quot\;.SFNSText-Regular&quot\;\, sans-serif\; font-size: 14px\; white-space: pre-wrap\; cursor: pointer\; text-decoration-line: none\;" target="_blank">recordstoreday.com</a><span style="color: rgb(29\, 33\, 41)\; font-size: 14px\;"> now!</span><br />\n<br />\n<strong><span style="color: rgb(29\, 33\, 41)\; font-size: 14px\;">-FOOD &amp\; DRINK-</span></strong><br />\n<span style="color: rgb(29\, 33\, 41)\; font-size: 14px\;">Coming early? Enjoy free coffee in the morning courtesy of </span><a href="https://www.facebook.com/GrindPoughkeepsie/" style="color: rgb(54\, 88\, 153)\; font-family: system-ui\, -apple-system\, system-ui\, &quot\;.SFNSText-Regular&quot\;\, sans-serif\; font-size: 14px\; white-space: pre-wrap\; cursor: pointer\; text-decoration-line: none\;" target="_blank">The Poughkeepsie Grind</a><span style="color: rgb(29\, 33\, 41)\; font-size: 14px\;">! There will be food TBA! Get ice cream from </span><a href="https://www.facebook.com/MadisonAveBenJerrys/" style="color: rgb(54\, 88\, 153)\; font-family: system-ui\, -apple-system\, system-ui\, &quot\;.SFNSText-Regular&quot\;\, sans-serif\; font-size: 14px\; white-space: pre-wrap\; cursor: pointer\; text-decoration-line: none\;" target="_blank">Ben &amp\; Jerry&#39\;s</a><span style="color: rgb(29\, 33\, 41)\; font-size: 14px\;">! We&#39\;ll be serving up some delicious local beers- and </span><a href="https://www.facebook.com/HalfTimeBeverage/" style="color: rgb(54\, 88\, 153)\; font-family: system-ui\, -apple-system\, system-ui\, &quot\;.SFNSText-Regular&quot\;\, sans-serif\; font-size: 14px\; white-space: pre-wrap\; cursor: pointer\; text-decoration-line: none\;" target="_blank">Half Time</a><span style="color: rgb(29\, 33\, 41)\; font-size: 14px\;"> Beverages will be on-site again with samples of the </span><a href="https://www.facebook.com/dogfishheadbeer/" style="color: rgb(54\, 88\, 153)\; font-family: system-ui\, -apple-system\, system-ui\, &quot\;.SFNSText-Regular&quot\;\, sans-serif\; font-size: 14px\; white-space: pre-wrap\; cursor: pointer\; text-decoration-line: none\;" target="_blank">Dogfish Head</a><span style="color: rgb(29\, 33\, 41)\; font-size: 14px\;"> </span><a href="https://www.facebook.com/hashtag/rsd19" style="color: rgb(54\, 88\, 153)\; font-family: system-ui\, -apple-system\, system-ui\, &quot\;.SFNSText-Regular&quot\;\, sans-serif\; font-size: 14px\; white-space: pre-wrap\; cursor: pointer\; text-decoration-line: none\;" target="_blank">#RSD19</a><span style="color: rgb(29\, 33\, 41)\; font-size: 14px\;"> brew\, the fan-favorite re-released </span><a href="https://www.facebook.com/gratefuldead/" style="color: rgb(54\, 88\, 153)\; font-family: system-ui\, -apple-system\, system-ui\, &quot\;.SFNSText-Regular&quot\;\, sans-serif\; font-size: 14px\; white-space: pre-wrap\; cursor: pointer\; text-decoration-line: none\;" target="_blank">Grateful Dead</a><span style="color: rgb(29\, 33\, 41)\; font-size: 14px\;"> &#39\;American Beauty&#39\; pale ale (Plus they&#39\;re also bringing back &#39\;Dragons &amp\; YumYums&#39\; the 2018 collaboration with The </span><a href="https://www.facebook.com/flaminglips/" style="color: rgb(54\, 88\, 153)\; font-family: system-ui\, -apple-system\, system-ui\, &quot\;.SFNSText-Regular&quot\;\, sans-serif\; font-size: 14px\; white-space: pre-wrap\; cursor: pointer\; text-decoration-line: none\;" target="_blank">Flaming Lips</a><span style="color: rgb(29\, 33\, 41)\; font-size: 14px\;"> that we hope to have onsite!)</span><br />\n<br />\n<strong><span style="color: rgb(29\, 33\, 41)\; font-size: 14px\;">-FUN-</span></strong><br />\n<span style="color: rgb(29\, 33\, 41)\; font-size: 14px\;">Win prizes from </span><a href="https://www.facebook.com/wrrvfm/" style="color: rgb(54\, 88\, 153)\; font-family: system-ui\, -apple-system\, system-ui\, &quot\;.SFNSText-Regular&quot\;\, sans-serif\; font-size: 14px\; white-space: pre-wrap\; cursor: pointer\; text-decoration-line: none\;" target="_blank">92.7 &amp\; 96.9 WRRV</a><span style="color: rgb(29\, 33\, 41)\; font-size: 14px\;">\, meet the </span><a href="https://www.facebook.com/HVHRD/" style="color: rgb(54\, 88\, 153)\; font-family: system-ui\, -apple-system\, system-ui\, &quot\;.SFNSText-Regular&quot\;\, sans-serif\; font-size: 14px\; white-space: pre-wrap\; cursor: pointer\; text-decoration-line: none\;" target="_blank">Hudson Valley Horrors</a><span style="color: rgb(29\, 33\, 41)\; font-size: 14px\;"> roller derby athletes (and get info their programs)\, and more to be announced! </span><br />\n<br />\n<strong><span style="color: rgb(29\, 33\, 41)\; font-size: 14px\;">-LIVE MUSIC-</span></strong><br />\n<span style="color: rgb(29\, 33\, 41)\; font-size: 14px\;">Hear great live music all day long\, featuring a special intimate performance from </span><a href="https://www.facebook.com/ylabambamusica/" style="color: rgb(54\, 88\, 153)\; font-family: system-ui\, -apple-system\, system-ui\, &quot\;.SFNSText-Regular&quot\;\, sans-serif\; font-size: 14px\; white-space: pre-wrap\; cursor: pointer\; text-decoration-line: none\;" target="_blank">Y La Bamba</a><span style="color: rgb(29\, 33\, 41)\; font-size: 14px\;">\, whose new album &#39\;Mujeres&#39\; is out now and will be performing later that night at </span><a href="https://www.facebook.com/bspkingston/" style="color: rgb(54\, 88\, 153)\; font-family: system-ui\, -apple-system\, system-ui\, &quot\;.SFNSText-Regular&quot\;\, sans-serif\; font-size: 14px\; white-space: pre-wrap\; cursor: pointer\; text-decoration-line: none\;" target="_blank">BSP Kingston</a><span style="color: rgb(29\, 33\, 41)\; font-size: 14px\;"> (get tix in-store at darkside)! There will also be a set from NYC prog band </span><a href="https://www.facebook.com/valencemusic/" style="color: rgb(54\, 88\, 153)\; font-family: system-ui\, -apple-system\, system-ui\, &quot\;.SFNSText-Regular&quot\;\, sans-serif\; font-size: 14px\; white-space: pre-wrap\; cursor: pointer\; text-decoration-line: none\;" target="_blank">Valence</a><span style="color: rgb(29\, 33\, 41)\; font-size: 14px\;">\, whose new album &#39\;Cognitive Dissident&#39\; comes out 4/12. There will also be sets from awesome local performers </span><a href="https://www.facebook.com/alowglowiredawn/" style="color: rgb(54\, 88\, 153)\; font-family: system-ui\, -apple-system\, system-ui\, &quot\;.SFNSText-Regular&quot\;\, sans-serif\; font-size: 14px\; white-space: pre-wrap\; cursor: pointer\; text-decoration-line: none\;" target="_blank">A Low Glow Ire Dawn - ALGID</a><span style="color: rgb(29\, 33\, 41)\; font-size: 14px\;">\, </span><a href="https://www.facebook.com/ArizonaLindseyMusic/" style="color: rgb(54\, 88\, 153)\; font-family: system-ui\, -apple-system\, system-ui\, &quot\;.SFNSText-Regular&quot\;\, sans-serif\; font-size: 14px\; white-space: pre-wrap\; cursor: pointer\; text-decoration-line: none\;" target="_blank">Arizona Lindsey</a><span style="color: rgb(29\, 33\, 41)\; font-size: 14px\;">\, </span><a href="https://www.facebook.com/wallofego/" style="color: rgb(54\, 88\, 153)\; font-family: system-ui\, -apple-system\, system-ui\, &quot\;.SFNSText-Regular&quot\;\, sans-serif\; font-size: 14px\; white-space: pre-wrap\; cursor: pointer\; text-decoration-line: none\;" target="_blank">Wall Of Ego</a><span style="color: rgb(29\, 33\, 41)\; font-size: 14px\;">\, </span><a href="https://www.facebook.com/mikehamelnyc/" style="color: rgb(54\, 88\, 153)\; font-family: system-ui\, -apple-system\, system-ui\, &quot\;.SFNSText-Regular&quot\;\, sans-serif\; font-size: 14px\; white-space: pre-wrap\; cursor: pointer\; text-decoration-line: none\;" target="_blank">Mike Hamel</a><span style="color: rgb(29\, 33\, 41)\; font-size: 14px\;">\, </span><a href="https://www.facebook.com/freedomclassband/" style="color: rgb(54\, 88\, 153)\; font-family: system-ui\, -apple-system\, system-ui\, &quot\;.SFNSText-Regular&quot\;\, sans-serif\; font-size: 14px\; white-space: pre-wrap\; cursor: pointer\; text-decoration-line: none\;" target="_blank">Freedom Class</a><span style="color: rgb(29\, 33\, 41)\; font-size: 14px\;">\, </span><a href="https://www.facebook.com/TimberBeastBand/" style="color: rgb(54\, 88\, 153)\; font-family: system-ui\, -apple-system\, system-ui\, &quot\;.SFNSText-Regular&quot\;\, sans-serif\; font-size: 14px\; white-space: pre-wrap\; cursor: pointer\; text-decoration-line: none\;" target="_blank">Timber Beast</a><span style="color: rgb(29\, 33\, 41)\; font-size: 14px\;">\, and </span><a href="https://www.facebook.com/CiarraFragaleMusic/" style="color: rgb(54\, 88\, 153)\; font-family: system-ui\, -apple-system\, system-ui\, &quot\;.SFNSText-Regular&quot\;\, sans-serif\; font-size: 14px\; white-space: pre-wrap\; cursor: pointer\; text-decoration-line: none\;" target="_blank">Ciarra Fragale</a><span style="color: rgb(29\, 33\, 41)\; font-size: 14px\;">! </span><br />\n<br />\n<span style="color: rgb(29\, 33\, 41)\; font-size: 14px\;">In the meantime you can see our complete Record Store Day guidelines &amp\; details on our site at </span><a href="https://l.facebook.com/l.php?u=https%3A%2F%2Fbit.ly%2Fdsrsd%3Ffbclid%3DIwAR2sdfXwqLtlwekORl37-sz1PYj3lgffy9bOiIzS8v-nY2juI4Nhw_4hQz4&amp\;h=AT2_dVCP1NqQ9U0UO6wVsdXvPs9IGHHXkmr1f-5oIvtpEZeypxSqePyF7DrLPmUe3NjGhvCM4ZogVkuU_mNWB0iIBZ8WcumjUscQmppc1m2Aw6OhOWfT34qF9YQ1rRO6TqsjhIgPIOvkHZ6rtXlt37k" rel="nofollow noopener" style="color: rgb(54\, 88\, 153)\; font-family: system-ui\, -apple-system\, system-ui\, &quot\;.SFNSText-Regular&quot\;\, sans-serif\; font-size: 14px\; white-space: pre-wrap\; cursor: pointer\; text-decoration-line: none\;" target="_blank">http://bit.ly/dsrsd</a><br />\n<br />\n<span style="color: rgb(29\, 33\, 41)\; font-size: 14px\;">Record Store Day was conceived in 2007 at a gathering of independent record store owners and employees as a way to celebrate and spread the word about the unique culture surrounding nearly 1400 independently owned record stores in the US and thousands of similar stores internationally. Get more information on the organization at </span><a href="https://l.facebook.com/l.php?u=http%3A%2F%2Frecordstoreday.com%2F%3Ffbclid%3DIwAR10X8q2hhgh_oPHMFFfG0Bt1dgUGTP_r6QfSGNEhzbFzCMEy8yJAhqjfwA&amp\;h=AT2sJ4BSnJPgRnm4TdpryjaLzZv3IRfAcdZ_ii2Z970bXjLcLkU_xIUhqjMknuPZU7b6L5en_lXtT0EFRxtMn3Q8hF6Jux7wh-_ZU_wGGWGuAAZw1Tg9gvIKJmMWEg1LVErjzKCg2skWcqkAF1O1WDs" rel="nofollow noopener" style="color: rgb(54\, 88\, 153)\; font-family: system-ui\, -apple-system\, system-ui\, &quot\;.SFNSText-Regular&quot\;\, sans-serif\; font-size: 14px\; white-space: pre-wrap\; cursor: pointer\; text-decoration-line: none\;" target="_blank">recordstoreday.com</a><span style="color: rgb(29\, 33\, 41)\; font-size: 14px\;">!</span><br />\n<br />\n<span style="color: rgb(29\, 33\, 41)\; font-size: 14px\;">See you then!</span>
LOCATION:Darkside Records 611 Dutchess tpk Poughkeepsie\, NY 12603
UID:e.2770.10480545
SEQUENCE:3
DTSTAMP:20260423T081357Z
URL:https://business.dcrcoc.org/events/details/record-store-day-10480545
END:VEVENT

END:VCALENDAR
