BEGIN:VCALENDAR
VERSION:2.0
PRODID:-//ChamberMaster//Event Calendar 2.0//EN
METHOD:PUBLISH
X-PUBLISHED-TTL:P3D
REFRESH-INTERVAL:P3D
CALSCALE:GREGORIAN
BEGIN:VEVENT
DTSTART:20210326T160000Z
DTEND:20210326T220000Z
X-MICROSOFT-CDO-ALLDAYEVENT:FALSE
SUMMARY:Red Cross Blood Drive
DESCRIPTION:Blood donations are essential. Please schedule to donate at: www.RedCrossBlood.org and enter sponsor code: PartyTime. Your donation can save up to THREE lives!
X-ALT-DESC;FMTTYPE=text/html:Blood donations are essential. Please schedule to donate at: www.RedCrossBlood.org and enter sponsor code: PartyTime. Your donation can save up to THREE lives!
LOCATION:PartyTime Rentals 2575 Route 55 Poughquag\, NY 12570
UID:e.2770.10485032
SEQUENCE:3
DTSTAMP:20260421T144036Z
URL:https://business.dcrcoc.org/events/details/red-cross-blood-drive-03-26-2021-10485032
END:VEVENT

END:VCALENDAR
