BEGIN:VCALENDAR
VERSION:2.0
PRODID:-//ChamberMaster//Event Calendar 2.0//EN
METHOD:PUBLISH
X-PUBLISHED-TTL:P3D
REFRESH-INTERVAL:P3D
CALSCALE:GREGORIAN
BEGIN:VEVENT
DTSTART:20171228T220000Z
DTEND:20171229T000000Z
X-MICROSOFT-CDO-ALLDAYEVENT:FALSE
SUMMARY:Refer a Friend Celebration!
DESCRIPTION:During this festive evening\, designed for Workforce Connections and Youth One Stop participants\, we will celebrate all the referrals for the month of December.  Refer a friend and pick a prize!\n\n\n\nRegistration required. For more information and to RSVP\, contact Meredith Madden\, (845) 454-1700\, ext. 1002.
X-ALT-DESC;FMTTYPE=text/html:During this festive evening\, designed for Workforce Connections and Youth One Stop participants\, we will celebrate all the referrals for the month of December.&nbsp\; Refer a friend and pick a prize!<br />\n<br />\nRegistration required. For more information and to RSVP\, contact Meredith Madden\, (845) 454-1700\, ext. 1002.
LOCATION:Dutchess County Regional Chamber of Commerce Workforce Connections Office 1 Civic Center Plaza Poughkeepsie\, NY 12601
UID:e.2770.10476619
SEQUENCE:3
DTSTAMP:20260426T004900Z
URL:https://business.dcrcoc.org/events/details/refer-a-friend-celebration-10476619
END:VEVENT

END:VCALENDAR
