BEGIN:VCALENDAR
VERSION:2.0
PRODID:-//ChamberMaster//Event Calendar 2.0//EN
METHOD:PUBLISH
X-PUBLISHED-TTL:P3D
REFRESH-INTERVAL:P3D
CALSCALE:GREGORIAN
BEGIN:VEVENT
DTSTART:20180409T183000Z
DTEND:20180409T200000Z
X-MICROSOFT-CDO-ALLDAYEVENT:FALSE
SUMMARY:ReferenceUSA Business Database Workshop
DESCRIPTION:Poughkeepsie Public Library has ReferenceUSA\, the premier online research and reference tool for area business professionals\, job seekers\, entrepreneurs\, sales reps\, etc. This database can be accessed through the libraries website with a library card. Get fast and easy access to details on more than 45 million U.S. businesses and more than 271 million U.S. consumers. Use ReferenceUSA to: - Find sales leads and download lists - Conduct market research - Locate and research companies you want to work for - Build a business plan And much more
X-ALT-DESC;FMTTYPE=text/html:Poughkeepsie Public Library has ReferenceUSA\, the premier online research and reference tool for area business professionals\, job seekers\, entrepreneurs\, sales reps\, etc. This database can be accessed through the libraries website with a library card. Get fast and easy access to details on more than 45 million U.S. businesses and more than 271 million U.S. consumers. Use ReferenceUSA to: - Find sales leads and download lists - Conduct market research - Locate and research companies you want to work for - Build a business plan And much more
LOCATION:Poughkeepsie Public Library Boardman Rd Branch 141 Boardman Rd Poughkeepsie\, NY 12603
UID:e.2770.10477606
SEQUENCE:3
DTSTAMP:20260425T194330Z
URL:https://business.dcrcoc.org/events/details/referenceusa-business-database-workshop-10477606
END:VEVENT

END:VCALENDAR
