BEGIN:VCALENDAR
VERSION:2.0
PRODID:-//ChamberMaster//Event Calendar 2.0//EN
METHOD:PUBLISH
X-PUBLISHED-TTL:P3D
REFRESH-INTERVAL:P3D
CALSCALE:GREGORIAN
BEGIN:VEVENT
DTSTART:20180106T013000Z
DTEND:20180106T043000Z
X-MICROSOFT-CDO-ALLDAYEVENT:FALSE
SUMMARY:Reformation Comes to The Alley Kat!
DESCRIPTION:Rerformation plays Rock n Roll the way you want to hear it. The Alley Kat serves up some of the best food around. A great pairing that you won't want to miss!\nCheck out the event details on our Facebook page:\n\nReformation Comes to The Alley Kat!
X-ALT-DESC;FMTTYPE=text/html:<p><span style="color:rgb(75\, 79\, 86)\; font-family:system-ui\,-apple-system\,blinkmacsystemfont\,.sfnstext-regular\,sans-serif\; font-size:14px">Rerformation plays Rock n Roll the way you want to hear it. The Alley Kat serves up some of the best food around. A great pairing that you won&#39\;t want to miss!</span></p>\nCheck out the event details on our Facebook page:<br />\n<a href="https://www.facebook.com/events/140218576689011/">Reformation Comes to The Alley Kat!</a>\n\n<h1>&nbsp\;</h1>\n
LOCATION:The Alley Kat 1677 US 9 Wappingers Falls\, New York\, NY 12590
UID:e.2770.10476683
SEQUENCE:3
DTSTAMP:20260425T232402Z
URL:https://business.dcrcoc.org/events/details/reformation-comes-to-the-alley-kat-10476683
END:VEVENT

END:VCALENDAR
