BEGIN:VCALENDAR
VERSION:2.0
PRODID:-//ChamberMaster//Event Calendar 2.0//EN
METHOD:PUBLISH
X-PUBLISHED-TTL:P3D
REFRESH-INTERVAL:P3D
CALSCALE:GREGORIAN
BEGIN:VEVENT
DTSTART:20190406T140000Z
DTEND:20190406T180000Z
X-MICROSOFT-CDO-ALLDAYEVENT:FALSE
SUMMARY:Regional Volunteer Summet
DESCRIPTION:Join us for the 2019 Regional Volunteer Summit to get to know your fellow Walk Committee members\, network with volunteers from other Walks in the Hudson Valley\, Albany\, Long Island and New York City\, and exchange ideas and best practices. Don't miss this exciting networking and learning opportunity.
X-ALT-DESC;FMTTYPE=text/html:Join us for the 2019 Regional Volunteer Summit to get to know your fellow Walk Committee members\, network with volunteers from other Walks in the Hudson Valley\, Albany\, Long Island and New York City\, and exchange ideas and best practices. Don&#39\;t miss this exciting networking and learning opportunity.
LOCATION:The Culinary Institute of America\, 1946 Campus Dr\, Hyde Park\, NY 12538
UID:e.2770.10480572
SEQUENCE:3
DTSTAMP:20260423T062546Z
URL:https://business.dcrcoc.org/events/details/regional-volunteer-summet-10480572
END:VEVENT

END:VCALENDAR
