BEGIN:VCALENDAR
VERSION:2.0
PRODID:-//ChamberMaster//Event Calendar 2.0//EN
METHOD:PUBLISH
X-PUBLISHED-TTL:P3D
REFRESH-INTERVAL:P3D
CALSCALE:GREGORIAN
BEGIN:VEVENT
DTSTART:20191001T233000Z
DTEND:20191002T023000Z
X-MICROSOFT-CDO-ALLDAYEVENT:FALSE
SUMMARY:REO Speedwagon Tour
DESCRIPTION:REO Speedwagon\, headed by Kevin Cronin (Lead Vocals/Rhythm Guitar)\, Bruce Hall (Bass Guitar/Lead Harmony & Vocals)\, Neal Doughty (Keyboards)\, Dave Amato (Lead Guitar\, Vocals) and Bryan Hitt (Drums/Percussion) play a collection of the bands greatest hits for a one night performance that captures the spirit of the band's 52 years of music. Their contributions to the genre of rock are recognized and loved by old and new fans alike. purchase tickets at MJN Convention center box office\, Ticketmaster.com or 845.454.5800 --- reospeedwagon.com Instagram/Facebook - /reospeedwagonofficial Twitter - @reospeedwagon
X-ALT-DESC;FMTTYPE=text/html:REO Speedwagon\, headed by Kevin Cronin (Lead Vocals/Rhythm Guitar)\, Bruce Hall (Bass Guitar/Lead Harmony &amp\; Vocals)\, Neal Doughty (Keyboards)\, Dave Amato (Lead Guitar\, Vocals) and Bryan Hitt (Drums/Percussion) play a collection of the bands greatest hits for a one night performance that captures the spirit of the band&rsquo\;s 52 years of music. Their contributions to the genre of rock are recognized and loved by old and new fans alike. purchase tickets at MJN Convention center box office\, Ticketmaster.com or 845.454.5800 --- reospeedwagon.com Instagram/Facebook - /reospeedwagonofficial Twitter - @reospeedwagon
LOCATION:MJN - Majed J. Nesheiwat Convention Center 14 Civic Center Plz\, Poughkeepsie\, New York 12601
UID:e.2770.10481147
SEQUENCE:3
DTSTAMP:20260422T182941Z
URL:https://business.dcrcoc.org/events/details/reo-speedwagon-tour-10481147
END:VEVENT

END:VCALENDAR
