BEGIN:VCALENDAR
VERSION:2.0
PRODID:-//ChamberMaster//Event Calendar 2.0//EN
METHOD:PUBLISH
X-PUBLISHED-TTL:P3D
REFRESH-INTERVAL:P3D
CALSCALE:GREGORIAN
BEGIN:VEVENT
DTSTART:20171202T200000Z
DTEND:20171202T230000Z
X-MICROSOFT-CDO-ALLDAYEVENT:FALSE
SUMMARY:Repeal of Prohibition Day at Marta’s Vineyard
DESCRIPTION:Yes\, it's sad\, but true\, that the United States once thought it would be a good idea to make alcoholic beverages illegal. It didn't work! Come celebrate the day the US government repealed the 18th Amendment (Prohibition)\, and made everyone happy again! \n\nWe will have a crazy good mixologist here to show you how to whip up the most awesome\, unique\, cocktails for your holiday parties. While Appletinis and Margaritas are everywhere\, they will be conspicuously absent at this mini-event. \n\nDon't settle for ordinary when you can watch Josh Holly perform. He uses unique ingredients\, including bitters\, to make simple\, but amazing tastes\, that you can easily recreate at home for your holiday parties. Those Prohibition style drinks\, like the Manhattan\, and Old Fashioned get a new 'twist'\, making them both traditional\, but new and exciting. You'll be the talk of the town! (Recipes provided). Come join us at Marta's Vineyard for a fun and educational afternoon! See what your grandparents\, or great- grandparents drank\, while listening to the hottest musical hits of their day!
X-ALT-DESC;FMTTYPE=text/html:<span style="background-color:rgb(255\, 255\, 255)\; color:rgb(29\, 33\, 41)\; font-family:helvetica\,arial\,sans-serif\; font-size:14px">Yes\, it&rsquo\;s sad\, but true\, that the United States once thought it would be a good idea to make alcoholic beverages illegal. It didn&#39\;t work! Come celebrate the day the US government repealed the 18th Amendment (Prohibition)\, and made everyone happy again!&nbsp\;</span><br />\n<span style="background-color:rgb(255\, 255\, 255)\; color:rgb(29\, 33\, 41)\; font-family:helvetica\,arial\,sans-serif\; font-size:14px">We will have a crazy good mixologist here to show you how to whip up the most awesome\, unique\, cocktails for your holiday parties. While Appletinis and Marg</span><span style="background-color:rgb(255\, 255\, 255)\; color:rgb(29\, 33\, 41)\; font-family:helvetica\,arial\,sans-serif\; font-size:14px">aritas are everywhere\, they will be conspicuously absent at this mini-event.&nbsp\;<br />\nDon&rsquo\;t settle for ordinary when you can watch Josh Holly perform. He uses unique ingredients\, including bitters\, to make simple\, but amazing tastes\, that you can easily recreate at home for your holiday parties. Those Prohibition style drinks\, like the Manhattan\, and Old Fashioned get a new &lsquo\;twist&rsquo\;\, making them both traditional\, but new and exciting. You&rsquo\;ll be the talk of the town! (Recipes provided). Come join us at Marta&rsquo\;s Vineyard for a fun and educational afternoon! See what your grandparents\, or great- grandparents drank\, while listening to the hottest musical hits of their day!</span>
LOCATION:
UID:e.2770.10476624
SEQUENCE:3
DTSTAMP:20260426T020758Z
URL:https://business.dcrcoc.org/events/details/repeal-of-prohibition-day-at-marta-s-vineyard-10476624
END:VEVENT

END:VCALENDAR
