BEGIN:VCALENDAR
VERSION:2.0
PRODID:-//ChamberMaster//Event Calendar 2.0//EN
METHOD:PUBLISH
X-PUBLISHED-TTL:P3D
REFRESH-INTERVAL:P3D
CALSCALE:GREGORIAN
BEGIN:VEVENT
DTSTART:20171028T123000Z
DTEND:20171028T200000Z
X-MICROSOFT-CDO-ALLDAYEVENT:FALSE
SUMMARY:Resilience Conference: Creating Networks of Support for Families Living with Special Needs
DESCRIPTION:Join us for a day of information and inspiration\, featuring noted Positive Psychologist Dr. Maria Sirois. In her keynote address\, Dr. Sirois will help families of individuals with disabilities\, and professionals who serve them\, learn to build resilience. The author of A Short Course in Happiness and Every Day Counts\, Dr. Sirois will draw on the scientific basis for the practice of resilience. Blending humor and compassion\, she will offer practical strategies to help conference participants make choices every day that lead to happiness and thriving\, even in difficult circumstances.
X-ALT-DESC;FMTTYPE=text/html:Join us for a day of information and inspiration\, featuring noted Positive Psychologist Dr. Maria Sirois. In her keynote address\, Dr. Sirois will help families of individuals with disabilities\, and professionals who serve them\, learn to build resilience. The author of A Short Course in Happiness and Every Day Counts\, Dr. Sirois will draw on the scientific basis for the practice of resilience. Blending humor and compassion\, she will offer practical strategies to help conference participants make choices every day that lead to happiness and thriving\, even in difficult circumstances.
LOCATION:The Hancock Center\, Marist College 3399 North Road\, Poughkeepsie\, NY 12601
UID:e.2770.10476355
SEQUENCE:3
DTSTAMP:20260426T033624Z
URL:https://business.dcrcoc.org/events/details/resilience-conference-creating-networks-of-support-for-families-living-with-special-needs-10476355
END:VEVENT

END:VCALENDAR
