BEGIN:VCALENDAR
VERSION:2.0
PRODID:-//ChamberMaster//Event Calendar 2.0//EN
METHOD:PUBLISH
X-PUBLISHED-TTL:P3D
REFRESH-INTERVAL:P3D
CALSCALE:GREGORIAN
BEGIN:VEVENT
DTSTART:20180117T230000Z
DTEND:20180118T010000Z
X-MICROSOFT-CDO-ALLDAYEVENT:FALSE
SUMMARY:Resolve to Own a Business: Build \, Buy or Franchise?
DESCRIPTION:Eat healthy\, quit smoking\, go to the gym   all worthy New Years resolutions. How about owning a business?\n\nTime to act on that entrepreneurial instinct? Find out\, by joining WEDC for an informational seminar for women who are aspiring or current business owners\, semi-retirees\, veterans\, execs-in-transition\, and others.\n\nSeeking alternatives to traditional employment? Learn about putting that entrepreneurial spirit to work. There may be a ready made franchise business that fits your model! Industry specialists will detail franchising's basics\, bust its myths and address how it can suit YOU!  \n\nBeyond burgers and donuts we'll discuss:\n\n\n	Business ownership models\n	Franchises' rewards and risks\n	Best opportunities (full/part-time)\n	Research best practices\n	Low cost options/funding vehicles\n\n\n Hear about such businesses as: Children/Seniors\, B-2-B/Consulting\, Health & Fitness\, Pets & Tech\n\nAll attendees with receive a FREE copy of "The Franchise Rules" by Micheal Martuza.  Register Today
X-ALT-DESC;FMTTYPE=text/html:<h3>Eat healthy\, quit smoking\, go to the gym &ndash\; all worthy New Years resolutions. How about owning a business?</h3>\n\n<p>Time to act on that entrepreneurial instinct? Find out\, by joining <strong>WEDC </strong>for an informational seminar for women who are <em>aspiring or current business owners\, semi-retirees\, veterans\, execs-in-transition\, and others</em>.</p>\n\n<p>Seeking alternatives to traditional employment? Learn about putting that entrepreneurial spirit to work. There may be a ready made franchise business that fits your model! Industry specialists will detail franchising&rsquo\;s basics\, bust its myths and address how it can suit YOU!&nbsp\;&nbsp\;</p>\n\n<p>Beyond burgers and donuts we&rsquo\;ll discuss:</p>\n\n<ul>\n	<li>Business ownership models</li>\n	<li>Franchises&rsquo\; rewards and risks</li>\n	<li>Best opportunities (full/part-time)</li>\n	<li>Research best practices</li>\n	<li>Low cost options/funding vehicles</li>\n</ul>\n\n<p>&nbsp\;<strong>Hear about such businesses as: </strong>Children/Seniors\, B-2-B/Consulting\, Health &amp\; Fitness\, Pets &amp\; Tech</p>\n\n<h3><strong>All attendees with receive a FREE copy of &ldquo\;The Franchise Rules&rdquo\; by Micheal Martuza.</strong>&nbsp\; <a href="http://events.constantcontact.com/register/event?llr=dhf5cybab&amp\;oeidk=a07eey9loz021f2ef9a">Register Today</a></h3>\n
LOCATION:Think Dutchess 3 Neptune Road\, Suite A21 Poughkeepsie\, NY 12601
UID:e.2770.10476657
SEQUENCE:3
DTSTAMP:20260425T232539Z
URL:https://business.dcrcoc.org/events/details/resolve-to-own-a-business-build-buy-or-franchise-10476657
END:VEVENT

END:VCALENDAR
