BEGIN:VCALENDAR
VERSION:2.0
PRODID:-//ChamberMaster//Event Calendar 2.0//EN
METHOD:PUBLISH
X-PUBLISHED-TTL:P3D
REFRESH-INTERVAL:P3D
CALSCALE:GREGORIAN
BEGIN:VEVENT
DTSTART;VALUE=DATE:20210412
DTEND;VALUE=DATE:20210419
TRANSP:TRANSPARENT
X-MICROSOFT-CDO-ALLDAYEVENT:TRUE
SUMMARY:Restaurant Week for Child Abuse Prevention
DESCRIPTION:The Center for the Prevention of Child Abuse has partnered with several restaurants for one week during Child Abuse Prevention Month. Dine in or take out at one of the several restaurants listed on our website\, and a portion of the sales will be donated back to The CPCA. It's one way you can help our local community thrive from the impact of COVID-19 and help protect children in the Hudson Valley.
X-ALT-DESC;FMTTYPE=text/html:The Center for the Prevention of Child Abuse has partnered with several restaurants for one week during Child Abuse Prevention Month. Dine in or take out at one of the several restaurants listed on our website\, and a portion of the sales will be donated back to The CPCA. It&rsquo\;s one way you can help our local community thrive from the impact of COVID-19 and help protect children in the Hudson Valley.
LOCATION:Hudson Valley
UID:e.2770.10485037
SEQUENCE:3
DTSTAMP:20260421T125703Z
URL:https://business.dcrcoc.org/events/details/restaurant-week-for-child-abuse-prevention-10485037
END:VEVENT

END:VCALENDAR
