BEGIN:VCALENDAR
VERSION:2.0
PRODID:-//ChamberMaster//Event Calendar 2.0//EN
METHOD:PUBLISH
X-PUBLISHED-TTL:P3D
REFRESH-INTERVAL:P3D
CALSCALE:GREGORIAN
BEGIN:VEVENT
DTSTART:20200222T140000Z
DTEND:20200222T150000Z
X-MICROSOFT-CDO-ALLDAYEVENT:FALSE
SUMMARY:Restorative Yoga in the Cave
DESCRIPTION:All yoga classes take place in our Himalayan Salt Cave and are an intimate experience with a max of four participants. Yoga classes are a combined YOGA/HALOTHERAPY event. Come de-stress\, get rejuvenated and feel ultra relaxed in a unique yoga/halotherapy experience!\n\nRestorative yoga is a practice that is all about slowing down and opening your body through passive stretching. During the long holds of restorative yoga poses\, the muscles are allowed to relax deeply. It is a unique and deeply soothing feeling\, as the yoga props (such as straps\, blocks and bolsters)\, rather than the muscles\, are used to support the body. All of our yoga classes will also include the exploration of pranayama (breath control)\, mudras (energy seals performed with the fingers and hands)\, hands on adjustments (optional)\, essential oils (optional) and plenty of time for a blissful savasana (a pose often used for deep relaxation and meditation at the end of a session).
X-ALT-DESC;FMTTYPE=text/html:<p><span style="color:rgb(0\, 0\, 0)\; font-family:avenir-lt-w01_35-light1475496\,sans-serif\; font-size:14px">All yoga classes take place in our Himalayan Salt Cave and are an intimate experience with a max of four participants. Yoga classes are a combined YOGA/HALOTHERAPY event. Come de-stress\, get rejuvenated and feel ultra relaxed in a unique yoga/halotherapy experience!<br />\nRestorative yoga is a practice that is all about slowing down and opening your body through passive stretching. During the long holds of&nbsp\;restorative yoga poses\, the muscles are allowed to relax deeply. It is a unique and deeply soothing feeling\, as the yoga props (such as straps\, blocks and bolsters)\, rather than the muscles\, are used to support the body.&nbsp\;</span><span style="color:rgb(0\, 0\, 0)\; font-size:14px">All of our yoga classes will also include the exploration of pranayama (breath control)\, mudras (energy seals performed with the fingers and hands)\, hands on adjustments (optional)\, essential oils (optional) and plenty of time for a blissful savasana (a pose often used for deep relaxation and meditation at the end of a session).</span></p>\n
LOCATION:Pellegrino Healing Center 4307 Albany Post Rd Hyde Park\, NY 12538 Call/text 845-233-5672
UID:e.2770.10482919
SEQUENCE:3
DTSTAMP:20260422T121443Z
URL:https://business.dcrcoc.org/events/details/restorative-yoga-in-the-cave-02-22-2020-10482919
END:VEVENT

END:VCALENDAR
