BEGIN:VCALENDAR
VERSION:2.0
PRODID:-//ChamberMaster//Event Calendar 2.0//EN
METHOD:PUBLISH
X-PUBLISHED-TTL:P3D
REFRESH-INTERVAL:P3D
CALSCALE:GREGORIAN
BEGIN:VEVENT
DTSTART:20180706T190000Z
DTEND:20180708T210000Z
X-MICROSOFT-CDO-ALLDAYEVENT:FALSE
SUMMARY:Revolution Wine Tasting at Marta's Vineyard
DESCRIPTION:We're Gooonna Start A Revoooolutiooon\, yeah!\n\n(well\, not really\, that's already been done   more than once!)\n\n \n\nThe French celebrate "Bastille Day"\, in July when they stormed the Bastille\, protesting the wealthy class's excessive privilege.\n\nIn July\, Americans celebrate their split from British rule\, revolting against their heavy taxes and many other issues.\n\nTherefore\, we celebrate the independence of both countries and their love of -wine!\n\n \n\nFrom California:\n\nTimbre Chardonnay- This is Chardonnay at its best. This is Premium California wine. It's floral\, concentrated fruit\, and only a touch of light vanilla from neutral oak ageing. This is a special treat for a special dinner. Ageworthy too.\n\n \n\nThe "Other" Red Blend   A delicious blend with round texture\, but with enough fresh fruit\, touch of oak\, and long\, lingering flavor. (It is the #1 Best Seller in one of the area's most popular restaurants- we'll tell you which restaurant when you come in).50% Cabernet Sauvignon\, 40% Merlot\, 10 % Syrah. \n\n \n\nFrom France:\n\nDomaine Romy Beaujolais   Classic Beaujolais with modest tannins\, fresh black fruit and no oak. This is the red you want for an evening summer dinner when a red wine is required. Serve slightly chilled with lighter courses or leaner meats.\n\n \n\nAIX Provencal Rose'- Classic Provencal Rose with plenty of refreshing\, palate cleansing minerality and fresh fruit. This wine wants seafood or to be drunk as an aperitif before a meal. The best choice for HOT weather.\n\n \n\nClub 44 Provencal Rose'   Fruitier\, but completely dry style. Peaches and strawberries linger on your palate. Medium acidity and easy drinking. This goes down faster than you can imagine!!
X-ALT-DESC;FMTTYPE=text/html:<em><span style="font-size:20.0pt">We&rsquo\;re Gooonna Start A Revoooolutiooon\, yeah!</span></em><br />\n<em><span style="font-size:14.0pt">(well\, not really\, that&rsquo\;s already been done &ndash\; more than once!)</span></em><br />\n&nbsp\;<br />\n<span style="font-size:14.0pt">The French celebrate &ldquo\;Bastille Day&rdquo\;\, in July when they stormed the Bastille\, protesting the wealthy class&rsquo\;s excessive privilege.</span><br />\n<span style="font-size:14.0pt">In July\, Americans celebrate their split from British rule\, revolting against their heavy taxes and many other issues.</span><br />\n<span style="font-size:14.0pt">Therefore\, we celebrate the independence of both countries and their love of -<em><span style="color:red">wine!</span></em></span><br />\n&nbsp\;<br />\n<strong><span style="font-size:14.0pt">From California:</span></strong><br />\n<strong><span style="color:#C00000"><span style="font-size:14.0pt">Timbre Chardonnay</span></span></strong><span style="color:#5F497A"><span style="font-size:14.0pt">- </span></span><span style="font-size:14.0pt">This is Chardonnay at its best. This is Premium California wine. It&rsquo\;s floral\, concentrated fruit\, and only a touch of light vanilla from neutral oak ageing. This is a special treat for a special dinner. Ageworthy too.</span><br />\n&nbsp\;<br />\n<strong><span style="color:#C00000"><span style="font-size:14.0pt">The &ldquo\;Other&rdquo\;</span></span></strong><span style="font-size:14.0pt"> Red Blend &ndash\; A delicious blend with round texture\, but with enough fresh fruit\, touch of oak\, and long\, lingering flavor. (It is the #1 Best Seller in one of the area&rsquo\;s most popular restaurants- we&rsquo\;ll tell you which restaurant when you come in).50% Cabernet Sauvignon\, 40% Merlot\, 10 % Syrah. </span><br />\n&nbsp\;<br />\n<strong><span style="font-size:14.0pt">From France:</span></strong><br />\n<strong><span style="color:#C00000"><span style="font-size:14.0pt">Domaine Romy Beaujolais</span></span></strong><span style="font-size:14.0pt"> &ndash\; Classic Beaujolais with modest tannins\, fresh black fruit and no oak. This is the red you want for an evening summer dinner when a red wine is required. Serve slightly chilled with lighter courses or leaner meats.</span><br />\n&nbsp\;<br />\n<strong><span style="color:#C00000"><span style="font-size:14.0pt">AIX Provencal Rose&rsquo\;</span></span></strong><span style="font-size:14.0pt">- Classic Provencal Rose with plenty of refreshing\, palate cleansing minerality and fresh fruit. This wine wants seafood or to be drunk as an aperitif before a meal. The best choice for HOT weather.</span><br />\n&nbsp\;<br />\n<strong><span style="color:#C00000"><span style="font-size:14.0pt">Club 44 Provencal Rose&rsquo\;</span></span></strong><span style="font-size:14.0pt"> &ndash\; Fruitier\, but completely dry style. Peaches and strawberries linger on your palate. Medium acidity and easy drinking. This goes down faster than you can imagine!! </span>
LOCATION:Marta's Vineyard South Road Square\, 1955 South Rd.\, Poughkeepsie\, New York 12601
UID:e.2770.10479301
SEQUENCE:3
DTSTAMP:20260425T154940Z
URL:https://business.dcrcoc.org/events/details/revolution-wine-tasting-at-marta-s-vineyard-10479301
END:VEVENT

END:VCALENDAR
