BEGIN:VCALENDAR
VERSION:2.0
PRODID:-//ChamberMaster//Event Calendar 2.0//EN
METHOD:PUBLISH
X-PUBLISHED-TTL:P3D
REFRESH-INTERVAL:P3D
CALSCALE:GREGORIAN
BEGIN:VEVENT
DTSTART:20190912T200000Z
DTEND:20190912T210000Z
X-MICROSOFT-CDO-ALLDAYEVENT:FALSE
SUMMARY:Ribbon Cutting: Abilities First
DESCRIPTION:Join us as we celebrate their new administrative office space!\n\nOpen House: 3:30-6\n\nRibbon Cutting: 4
X-ALT-DESC;FMTTYPE=text/html:Join us as we celebrate their new administrative office space!<br />\nOpen House: 3:30-6<br />\nRibbon Cutting: 4
LOCATION:167 Myers Corners Road Wappingers Falls
UID:e.2770.10480989
SEQUENCE:3
DTSTAMP:20260422T215341Z
URL:https://business.dcrcoc.org/events/details/ribbon-cutting-abilities-first-10480989
END:VEVENT

END:VCALENDAR
