BEGIN:VCALENDAR
VERSION:2.0
PRODID:-//ChamberMaster//Event Calendar 2.0//EN
METHOD:PUBLISH
X-PUBLISHED-TTL:P3D
REFRESH-INTERVAL:P3D
CALSCALE:GREGORIAN
BEGIN:VEVENT
DTSTART:20190719T160000Z
DTEND:20190719T170000Z
X-MICROSOFT-CDO-ALLDAYEVENT:FALSE
SUMMARY:Ribbon Cutting - Adams Fairacre Farms
DESCRIPTION:Join us in celebrating Adams' 100th anniversary!
X-ALT-DESC;FMTTYPE=text/html:Join us in celebrating Adams&#39\; 100th anniversary!
LOCATION:Adams Fairacre Farm 765 Dutchess Turnpike Poughkeepsie
UID:e.2770.10479871
SEQUENCE:3
DTSTAMP:20260423T011836Z
URL:https://business.dcrcoc.org/events/details/ribbon-cutting-adams-fairacre-farms-10479871
END:VEVENT

END:VCALENDAR
